{"text_format":"1","workbook":"xlsx","n_sheets":10,"sheets":["Instruktion","CoF","Brand","Naturskador","Trafik","Motor","SoO","Kommentarer","System","Bolag"],"not_rendered":{"charts":0,"images":9,"macros":1,"external_links":0,"defined_names":12,"comments":1,"pivot_tables":0},"unopened":[],"bounds":{"document_bytes":16777216,"sheet_cells":100000,"rows_first":2000,"rows_last":500,"rows_between":2000,"halvings":0,"cell_chars":16384,"cell_head_chars":4096},"cells_cut":0,"cells_raw":0,"read":"whole","date_system":"1900"}

{"sheet":"Instruktion","index":0,"n_rows":10,"n_cols":4,"rows_kept":10,"cut":false,"hidden":false,"merged":[[9,1,9,3],[2,1,2,4],[4,1,4,2],[3,1,3,2],[8,1,8,3]]}
["Inrapportering Försäkringsförbundet Skade Årlig"]
[]
["Bolagsnamn:",""]
["Institutnummer:",{"$f":"IF(B3<>\"\",VLOOKUP(B3,BolagTabell,3,FALSE),\"\")","v":""},null,"fem siffror (11111)"]
["Organisationsnummer:",{"$f":"IF(B3<>\"\",VLOOKUP(B3,BolagTabell,2,FALSE),\"\")","v":""},null,"elva tecken (111111-1111)"]
[]
["Skadeår (år t):","","(YYYY)"]
[]
["Handläggare:",""]
["Telefon:",""]

{"sheet":"CoF","index":1,"n_rows":31,"n_cols":18,"rows_kept":31,"cut":false,"hidden":false,"merged":[[9,11,11,11],[9,12,11,12],[9,13,11,13],[9,14,11,14],[9,15,11,15],[8,14,8,15],[9,2,11,2],[9,3,11,3],[9,4,11,4],[9,5,11,5],[9,6,11,6],[9,7,11,7],[9,8,11,8],[9,9,11,9],[9,10,11,10],[8,2,8,3],[8,4,8,5],[8,6,8,7],[8,8,8,9],[8,10,8,11],[8,12,8,13],[7,12,7,13],[7,14,7,15],[6,2,6,3],[6,4,6,5],[6,6,6,7],[6,8,6,9],[6,10,6,11],[7,2,7,3],[7,4,7,5],[7,6,7,7],[7,8,7,9],[7,10,7,11],[3,14,5,15],[4,2,5,3],[4,4,5,5],[4,6,5,7],[6,12,6,13],[6,14,6,15],[2,7,2,11],[3,2,3,7],[3,8,5,9],[3,10,5,11],[3,12,5,13]]}
[{"$f":"\"Bolag: \" & Instruktion!B3 & \"       Period: \" & PeriodY","v":"Bolag:        Period: "}]
["ÅRSSTATISTIK - Civil och Företag"]
[null,null,null,null,null," "]
["Gren:",null,"Hem-, villa- och fritidshusförsäkring",null,null,null,null,null,"Separat båt-försäkring",null,"Företags- och fastighets-försäkring inkl lantbruk",null,"Övrig försäkring",null,"SUMMA"]
["Bransch:",null,"Hemförsäkring inkl tillägg",null,"Villahemförsäkring inkl tillägg",null,"Fritidshusförsäkring inkl tillägg "]
[]
["Antal försäkringar:",null,null,null,null,null,null,null,null,null,null,null,null,null,{"$f":"SUM(C7:N7)","v":0},null,null,"hämtas från beståndsstatistiken "]
["Intjänad premie, kSEK:",null,null,null,null,null,null,null,null,null,null,null,null,null,{"$f":"SUM(C8:N8)","v":0},null,null,"för de bolag som rapporterar denna, "]
["Driftskostnader, kSEK:",null,null,null,null,null,null,null,null,null,null,null,null,null,0,null,null,"övriga bolag lämnar uppgifter här"]
["(N) = uppskattat antal inträffade skador",null,"Antal (N)","Skade-kostnad (S)","Antal (N)","Skade-kostnad (S)","Antal (N)","Skade-kostnad (S)","Antal (N)","Skade-kostnad (S)","Antal (N)","Skade-kostnad (S)","Antal (N)","Skade-kostnad (S)","Antal (N)","Skade-kostnad (S)"]
["(S) = känd skadekostnad, kSEK"]
[]
[21,"Brand och åska",null,null,null,null,null,null,null,null,null,null,null,null,{"$f":"SUM(C13,E13,G13,I13,K13,M13)","v":0},{"$f":"SUM(D13,F13,H13,J13,L13,N13)","v":0},{"$f":"B13","v":"Brand och åska"}]
[22.23,"Naturskada, storm",null,null,null,null,null,null,null,null,null,null,null,null,{"$f":"SUM(C14,E14,G14,I14,K14,M14)","v":0},0,"Naturskada, storm"]
[62,"Naturskada, vatten",null,null,null,null,null,null,null,null,null,null,null,null,{"$f":"SUM(C15,E15,G15,K15,M15)","v":0},{"$f":"SUM(D15,F15,H15,L15,N15)","v":0},"Naturskada, vatten"]
[63,"Naturskada, övrig",null,null,null,null,null,null,null,null,null,null,null,null,0,0,"Naturskada, övrig"]
[61,"Vatten",null,null,null,null,null,null,null,null,null,null,null,null,{"$f":"SUM(C17,E17,G17,K17,M17)","v":0},{"$f":"SUM(D17,F17,H17,L17,N17)","v":0},"Vatten"]
[51,"Maskin",null,null,null,null,null,null,null,null,null,null,null,null,0,{"$f":"SUM(D18,F18,H18,J18,L18,N18)","v":0},"Maskin"]
[41,"Inbrott och stöld",null,null,null,null,null,null,null,null,null,null,null,null,0,{"$f":"SUM(D19,F19,H19,J19,L19,N19)","v":0},"Inbrott och stöld"]
[42,"Cykelstöld",null,null,null,null,null,null,null,null,null,null,null,null,{"$f":"SUM(C20,E20,G20,K20,M20)","v":0},{"$f":"SUM(D20,F20,H20,L20,N20)","v":0},"Cykelstöld"]
[43.95,"Rån, överfall",null,null,null,null,null,null,null,null,null,null,null,null,{"$f":"SUM(C21,E21,G21,K21,M21)","v":0},{"$f":"SUM(D21,F21,H21,L21,N21)","v":0},"Rån, överfall"]
[52,"Småbåt",null,null,null,null,null,null,null,null,null,null,null,null,{"$f":"SUM(C22,E22,G22,K22,M22)","v":0},0,"Småbåt"]
[46,"Resa, personskada",null,null,null,null,null,null,null,null,null,null,null,null,{"$f":"SUM(C23,E23,G23,K23,M23)","v":0},0,"Resa, personskada"]
[47,"Resa, ej personskada",null,null,null,null,null,null,null,null,null,null,null,null,{"$f":"SUM(C24,E24,G24,K24,M24)","v":0},0,"Resa, ej personskada"]
[45,"Allrisk",null,null,null,null,null,null,null,null,null,null,null,null,0,0,"Allrisk"]
["11,12,15","Ansvar",null,null,null,null,null,null,null,null,null,null,null,null,0,0,"Ansvar"]
[87,"Rättsskydd",null,null,null,null,null,null,null,null,null,null,null,null,0,0,"Rättsskydd"]
[91,"Övriga skadearter",null,null,null,null,null,null,null,null,null,null,null,null,0,0,"Övriga skadearter"]
[99,"Ej fördelade skadekostnader",null,null,null,null,null,null,null,null,null,null,null,null,null,0,"Ej fördelade skadekostnader"]
[]
["SUMMA",null,{"$f":"SUM(C13:C28)","v":0},{"$f":"SUM(D13:D29)","v":0},{"$f":"SUM(E13:E28)","v":0},{"$f":"SUM(F13:F29)","v":0},{"$f":"SUM(G13:G28)","v":0},{"$f":"SUM(H13:H29)","v":0},{"$f":"SUM(I13:I14,I16,I18:I19,I25:I28)","v":0},{"$f":"SUM(J13:J14,J16,J18:J19,J25:J29)","v":0},{"$f":"SUM(K13:K28)","v":0},{"$f":"SUM(L13:L29)","v":0},{"$f":"SUM(M13:M28)","v":0},0,{"$f":"SUM(O13:O28)","v":0},{"$f":"SUM(P13:P29)","v":0}]

{"sheet":"Brand","index":2,"n_rows":38,"n_cols":17,"rows_kept":38,"cut":false,"hidden":false,"merged":[[11,15,13,15],[11,8,13,8],[11,9,13,9],[11,10,13,10],[11,11,13,11],[11,12,13,12],[11,13,13,13],[11,7,13,7],[3,0,3,15],[5,2,5,7],[5,8,7,9],[5,10,7,11],[5,12,7,13],[5,14,7,15],[6,2,7,3],[6,4,7,5],[6,6,7,7],[11,2,13,2],[11,3,13,3],[11,4,13,4],[11,5,13,5],[11,6,13,6],[11,14,13,14]]}
[{"$f":"\"Bolag: \" & Instruktion!B3 & \"       Period: \" & PeriodY","v":"Bolag:        Period: "}]
["ÅRSSTATISTIK - Civil och Företag Brandskador fördelat på län"]
[" "," "," "," "," "," "]
["Fördelning per län för Brand och åska (skadeart 21)"]
[" "," "," "," "," "," "]
["Gren:",null,"Hem-, villa- och fritidshusförsäkring",null,null,null,null,null,"Separat båt-försäkring",null,"Företags- och fastighets-försäkring inkl lantbruk",null,"Övrig försäkring",null,"SUMMA"]
["Bransch:",null,"Hemförsäkring inkl tillägg",null,"Villahemförsäkring inkl tillägg",null,"Fritidshusförsäkring inkl tillägg "]
[]
["Antal försäkringar:"]
["Intjänad premie, kSEK:"]
["Driftskostnader, kSEK:"]
["(N) = uppskattat antal inträffade bränder",null,"Antal (N)","Skade-kostnad (S)","Antal (N)","Skade-kostnad (S)","Antal (N)","Skade-kostnad (S)","Antal (N)","Skade-kostnad (S)","Antal (N)","Skade-kostnad (S)","Antal (N)","Skade-kostnad (S)","Antal (N)","Skade-kostnad (S)"]
["(S) = känd skadekostnad, kSEK"]
["Län"]
["01","Stockholms län",null,null,null,null,null,null,null,null,null,null,null,null,{"$f":"SUM(C15,E15,G15,I15,K15,M15)","v":0},{"$f":"SUM(D15,F15,H15,J15,L15,N15)","v":0},{"$f":"B15","v":"Stockholms län"}]
["03","Uppsala län",null,null,null,null,null,null,null,null,null,null,null,null,{"$f":"SUM(C16,E16,G16,I16,K16,M16)","v":0},0,{"$f":"B16","v":"Uppsala län"}]
["04","Södermanlands län",null,null,null,null,null,null,null,null,null,null,null,null,0,0,"Södermanlands län"]
["05","Östergötlands län",null,null,null,null,null,null,null,null,null,null,null,null,0,0,"Östergötlands län"]
["06","Jönköpings län",null,null,null,null,null,null,null,null,null,null,null,null,0,0,"Jönköpings län"]
["07","Kronobergs län",null,null,null,null,null,null,null,null,null,null,null,null,0,0,"Kronobergs län"]
["08","Kalmar län",null,null,null,null,null,null,null,null,null,null,null,null,0,0,"Kalmar län"]
["09","Gotlands län",null,null,null,null,null,null,null,null,null,null,null,null,0,0,"Gotlands län"]
["10","Blekinge län",null,null,null,null,null,null,null,null,null,null,null,null,0,0,"Blekinge län"]
["12","Skåne län",null,null,null,null,null,null,null,null,null,null,null,null,0,0,"Skåne län"]
["13","Hallands län",null,null,null,null,null,null,null,null,null,null,null,null,0,0,"Hallands län"]
["14","Västra Götalands län",null,null,null,null,null,null,null,null,null,null,null,null,0,0,"Västra Götalands län"]
["17","Värmlands län",null,null,null,null,null,null,null,null,null,null,null,null,0,0,"Värmlands län"]
["18","Örebro län",null,null,null,null,null,null,null,null,null,null,null,null,0,0,"Örebro län"]
["19","Västmanlands län",null,null,null,null,null,null,null,null,null,null,null,null,0,0,"Västmanlands län"]
["20","Dalarnas län",null,null,null,null,null,null,null,null,null,null,null,null,0,0,"Dalarnas län"]
["21","Gävleborgs län",null,null,null,null,null,null,null,null,null,null,null,null,0,0,"Gävleborgs län"]
["22","Västernorrlands län",null,null,null,null,null,null,null,null,null,null,null,null,0,0,"Västernorrlands län"]
["23","Jämtlands län",null,null,null,null,null,null,null,null,null,null,null,null,0,0,"Jämtlands län"]
["24","Västerbottens län",null,null,null,null,null,null,null,null,null,null,null,null,0,0,"Västerbottens län"]
["25","Norrbottens län",null,null,null,null,null,null,null,null,null,null,null,null,0,0,"Norrbottens län"]
["99","Okänt län",null,null,null,null,null,null,null,null,null,null,null,null,0,0,"Okänt län"]
[]
["SUMMA",null,{"$f":"SUM(C15:C36)","v":0},{"$f":"SUM(D15:D36)","v":0},0,0,0,0,0,0,0,0,0,0,0,{"$f":"SUM(P15:P36)","v":0}]

{"sheet":"Naturskador","index":3,"n_rows":38,"n_cols":17,"rows_kept":38,"cut":false,"hidden":false,"merged":[[11,15,13,15],[11,8,13,8],[11,9,13,9],[11,10,13,10],[11,11,13,11],[11,12,13,12],[11,13,13,13],[11,7,13,7],[3,0,3,15],[5,2,5,7],[5,8,7,9],[5,10,7,11],[5,12,7,13],[5,14,7,15],[6,2,7,3],[6,4,7,5],[6,6,7,7],[11,2,13,2],[11,3,13,3],[11,4,13,4],[11,5,13,5],[11,6,13,6],[11,14,13,14]]}
[{"$f":"\"Bolag: \" & Instruktion!B3 & \"       Period: \" & PeriodY","v":"Bolag:        Period: "}]
["ÅRSSTATISTIK - Civil och Företag Naturskador fördelat på län"]
[" "," "," "," "," "," "]
["Fördelning per län för Naturskador, totalt (skadearterna 22, 23, 62 och 63) . Vattenskador som inte är naturrelaterade (skadeart 61) ska inte ingå."]
[" "," "," "," "," "," "]
["Gren:",null,"Hem-, villa- och fritidshusförsäkring",null,null,null,null,null,"Separat båt-försäkring",null,"Företags- och fastighets-försäkring inkl lantbruk",null,"Övrig försäkring",null,"SUMMA"]
["Bransch:",null,"Hemförsäkring inkl tillägg",null,"Villahemförsäkring inkl tillägg",null,"Fritidshusförsäkring inkl tillägg "]
[]
["Antal försäkringar:"]
["Intjänad premie, kSEK:"]
["Driftskostnader, kSEK:"]
["(N) = uppskattat antal inträffade naturskador",null,"Antal (N)","Skade-kostnad (S)","Antal (N)","Skade-kostnad (S)","Antal (N)","Skade-kostnad (S)","Antal (N)","Skade-kostnad (S)","Antal (N)","Skade-kostnad (S)","Antal (N)","Skade-kostnad (S)","Antal (N)","Skade-kostnad (S)"]
["(S) = känd skadekostnad, kSEK"]
["Län"]
["01","Stockholms län",null,null,null,null,null,null,null,null,null,null,null,null,{"$f":"SUM(C15,E15,G15,I15,K15,M15)","v":0},{"$f":"SUM(D15,F15,H15,J15,L15,N15)","v":0},{"$f":"B15","v":"Stockholms län"}]
["03","Uppsala län",null,null,null,null,null,null,null,null,null,null,null,null,{"$f":"SUM(C16,E16,G16,I16,K16,M16)","v":0},0,{"$f":"B16","v":"Uppsala län"}]
["04","Södermanlands län",null,null,null,null,null,null,null,null,null,null,null,null,0,0,"Södermanlands län"]
["05","Östergötlands län",null,null,null,null,null,null,null,null,null,null,null,null,0,0,"Östergötlands län"]
["06","Jönköpings län",null,null,null,null,null,null,null,null,null,null,null,null,0,0,"Jönköpings län"]
["07","Kronobergs län",null,null,null,null,null,null,null,null,null,null,null,null,0,0,"Kronobergs län"]
["08","Kalmar län",null,null,null,null,null,null,null,null,null,null,null,null,0,0,"Kalmar län"]
["09","Gotlands län",null,null,null,null,null,null,null,null,null,null,null,null,0,0,"Gotlands län"]
["10","Blekinge län",null,null,null,null,null,null,null,null,null,null,null,null,0,0,"Blekinge län"]
["12","Skåne län",null,null,null,null,null,null,null,null,null,null,null,null,0,0,"Skåne län"]
["13","Hallands län",null,null,null,null,null,null,null,null,null,null,null,null,0,0,"Hallands län"]
["14","Västra Götalands län",null,null,null,null,null,null,null,null,null,null,null,null,0,0,"Västra Götalands län"]
["17","Värmlands län",null,null,null,null,null,null,null,null,null,null,null,null,0,0,"Värmlands län"]
["18","Örebro län",null,null,null,null,null,null,null,null,null,null,null,null,0,0,"Örebro län"]
["19","Västmanlands län",null,null,null,null,null,null,null,null,null,null,null,null,0,0,"Västmanlands län"]
["20","Dalarnas län",null,null,null,null,null,null,null,null,null,null,null,null,0,0,"Dalarnas län"]
["21","Gävleborgs län",null,null,null,null,null,null,null,null,null,null,null,null,0,0,"Gävleborgs län"]
["22","Västernorrlands län",null,null,null,null,null,null,null,null,null,null,null,null,0,0,"Västernorrlands län"]
["23","Jämtlands län",null,null,null,null,null,null,null,null,null,null,null,null,0,0,"Jämtlands län"]
["24","Västerbottens län",null,null,null,null,null,null,null,null,null,null,null,null,0,0,"Västerbottens län"]
["25","Norrbottens län",null,null,null,null,null,null,null,null,null,null,null,null,0,0,"Norrbottens län"]
["99","Okänt län",null,null,null,null,null,null,null,null,null,null,null,null,0,0,"Okänt län"]
[]
["SUMMA",null,{"$f":"SUM(C15:C36)","v":0},{"$f":"SUM(D15:D36)","v":0},0,0,0,0,0,0,0,0,0,0,0,{"$f":"SUM(P15:P36)","v":0}]

{"sheet":"Trafik","index":4,"n_rows":67,"n_cols":16,"rows_kept":67,"cut":false,"hidden":false,"merged":[[53,7,53,8],[55,7,55,8],[33,9,33,10],[31,5,31,6],[33,5,33,6],[52,5,52,6],[52,3,52,4],[52,7,52,8],[33,7,33,8],[31,7,31,8],[50,5,50,6],[33,3,33,4],[50,3,50,4],[53,3,53,4],[55,3,55,4],[54,3,54,4],[53,5,53,6],[55,5,55,6],[12,13,12,14],[30,3,30,4],[31,3,31,4],[12,3,12,4],[12,5,12,6],[12,7,12,8],[30,7,30,8],[12,11,12,12],[30,9,30,10],[31,9,31,10],[33,11,33,12],[30,11,30,12],[27,11,27,12],[31,11,31,12],[30,5,30,6],[9,11,9,12],[10,11,10,12],[9,13,9,14],[10,13,10,14],[9,7,9,8],[10,7,10,8],[9,9,9,10],[10,9,10,10],[6,9,6,10],[7,9,7,10],[26,9,26,10],[27,9,27,10],[9,3,9,4],[10,3,10,4],[9,5,9,6],[10,5,10,6],[12,9,12,10]]}
[{"$f":"\"Bolag: \" & Instruktion!B3 & \"       Period: \" & PeriodY","v":"Bolag:        Period: "}]
["ÖVERSIKTSSTATISTIK - Trafik"]
["Hänvisningarna inom parantes avser Årsrapport TM till Finansinspektionen"]
["Koderna för skadeart enl. Statistikplan för Översiktsstatistik TM"]
[]
[null,null,"Gren:"]
[null,null,"Bransch:","Personbilar",null,"MC",null,"Moped  ",null,"Moped",null,"Terrängfordon",null,"Taxi"]
[null,null,null,"(klass 01)",null,"försäkring",null,"klass I",null,"klass II"]
["Trafikförsäkring",null,{"$f":"\"År: \" & PeriodY","v":"År: "},null,null,null,null,null,null,null,null,null,null,null,null,{"$f":"\"År: \" & PeriodY","v":"År: "}]
["Antal fordon vid årets slut"]
["Antal fordon under årsrisk"]
["Intjänad premie, kSEK ",null,null,null,null," ",null," ",null," ",null," ",null," "]
["(äldre TM-blankett sid 1):"]
[]
[{"$f":"\"Skador inträffade år \" & PeriodY-1","v":{"$error":"#VALUE!"}}]
[null,null,null,"N","U","N","U","N","U","N","U","N","U","N","U",{"$f":"\"År: \" & PeriodY-1","v":{"$error":"#VALUE!"}}]
["antal  N och"]
[{"$f":"\"utbetalt belopp U tom år \" & PeriodY & \", \"","v":"utbetalt belopp U tom år , "}]
["kSEK (äldre TM-blankett sid 1):"]
["Varav:"]
["  utlandsskador"]
["  OF-skador"]
["  antal dödade"]
["  antal skadade"]
[]
[]
[null,null,"Gren:",null,null,null,null,null,null,"Traktor o"]
[null,null,"Bransch:","Lätt lastbil",null,"Tung lastbil",null,"Buss",null,"redskap",null,"Övriga"]
[]
["Trafikförsäkring",null,{"$f":"\"År: \" & PeriodY","v":"År: "},null,null,null,null,null,null,null,null,null,null,{"$f":"\"År: \" & PeriodY","v":"År: "}]
["Antal fordon vid årets slut"]
["Antal fordon under årsrisk"]
["Intjänad premie, kSEK "]
["(äldre TM-blankett sid 1):"]
[]
[{"$f":"\"Skador inträffade år \" & PeriodY-1","v":{"$error":"#VALUE!"}}]
[null,null,null,"N","U","N","U","N","U","N","U","N","U",{"$f":"\"År: \" & PeriodY-1","v":{"$error":"#VALUE!"}}]
["antal  N och"]
[{"$f":"\"utbetalt belopp U tom år \" & PeriodY & \", \"","v":"utbetalt belopp U tom år , "}]
["kSEK (äldre TM-blankett sid 1):"]
["Varav:"]
["  utlandsskador"]
["  OF-skador"]
["  antal dödade"]
["  antal skadade"]
[]
[]
[]
[null,null,"Gren:"]
[null,null,"Bransch:","Flytande",null,"Ej ",null,"Summa"]
[null,null,null,"försäkring",null,"fördelningsbart"]
["Trafikförsäkring",null,{"$f":"\"År: \" & PeriodY","v":"År: "},null,null,null,null,null,null,{"$f":"\"År: \" & PeriodY","v":"År: "}]
["Antal fordon vid årets slut",null,null," ",null,null,null,{"$f":"IF(TagSwitch=1,\"CD17\",SUM(D10,F10,H10,J10,L10,N10,D31,F31,H31,J31,L31,D53,F53))","v":0}]
["Antal fordon under årsrisk",null,null," ",null,null,null,{"$f":"IF(TagSwitch=1,\"CD18\",SUM(D11,F11,H11,J11,L11,N11,D32,F32,H32,J32,L32,D54,F54))","v":0}]
["Intjänad premie, kSEK ",null,null," ",null," ",null," "]
["(äldre TM-blankett sid 1):",null,null,null,null,null,null,{"$f":"IF(TagSwitch=1,\"CD19\",SUM(D13,F13,H13,J13,L13,N13,D34,F34,H34,J34,L34,D56,F56))","v":0}]
[]
[{"$f":"\"Skador inträffade år \" & PeriodY-1","v":{"$error":"#VALUE!"}},null,null,null,null,null,null,null,null,"P-skador","E-skador",{"$f":"\"År: \" & PeriodY-1","v":{"$error":"#VALUE!"}}]
[null,null,null,"N","U","N","U","N","U","U","U"]
["antal  N och"]
[{"$f":"\"utbetalt belopp U tom år \" & PeriodY & \", \"","v":"utbetalt belopp U tom år , "}]
["kSEK (äldre TM-blankett sid 1+2):",null,null,null,null,null,null,{"$f":"IF(TagSwitch=1,\"CE20\",SUM(D19,F19,H19,J19,L19,N19,D40,F40,H40,J40,L40,D62,F62))","v":0},{"$f":"IF(TagSwitch=1,\"CF20\",SUM(E19,G19,I19,K19,M19,O19,E40,G40,I40,K40,M40,E62,G62))","v":0}]
["Varav:"]
["  utlandsskador"]
["  OF-skador"]
["  antal dödade"]
["  antal skadade"]

{"sheet":"Motor","index":5,"n_rows":83,"n_cols":16,"rows_kept":83,"cut":false,"hidden":false,"merged":[[64,9,64,10],[66,9,66,10],[63,7,63,8],[37,13,37,14],[64,3,64,4],[39,13,39,14],[66,3,66,4],[64,7,64,8],[63,5,63,6],[64,5,64,6],[61,5,61,6],[61,7,61,8],[66,5,66,6],[63,3,63,4],[66,7,66,8],[62,5,62,6],[36,3,36,4],[37,3,37,4],[39,7,39,8],[39,9,39,10],[39,11,39,12],[37,11,37,12],[39,3,39,4],[37,5,37,6],[39,5,39,6],[36,5,36,6],[36,7,36,8],[37,7,37,8],[63,9,63,10],[36,11,36,12],[9,13,9,14],[10,13,10,14],[12,13,12,14],[10,9,10,10],[9,11,9,12],[10,11,10,12],[12,9,12,10],[12,11,12,12],[36,9,36,10],[36,13,36,14],[37,9,37,10],[9,3,9,4],[10,3,10,4],[12,3,12,4],[9,5,9,6],[10,5,10,6],[12,5,12,6],[6,9,6,10],[7,9,7,10],[32,9,32,10],[33,9,33,10],[9,7,9,8],[10,7,10,8],[9,9,9,10],[12,7,12,8]]}
[{"$f":"\"Bolag: \" & Instruktion!B3 & \"       Period: \" & PeriodY","v":"Bolag:        Period: "}]
["ÖVERSIKTSSTATISTIK - Motor"]
["Hänvisningarna inom parantes avser Årsrapport TM till Finansinspektionen"]
["Koderna för skadeart enl. Statistikplan för Översiktsstatistik TM"]
[]
[null,null,"Gren:"]
[null,null,"Bransch:","Personbilar",null,"MC",null,"Moped",null,"Moped",null,"Terrängfordon",null,"Taxi"]
[null,null,null,"(klass 01)",null,"försäkring",null,"klass I",null,"klass II"]
["Motorfordonsförsäkring",null,null,null,null,null,null,null,null,null,null,null,null,null,null,{"$f":"\"År: \" & PeriodY","v":"År: "}]
["Antal fordon vid årets slut"]
["Antal fordon under årsrisk"]
["Intjänad premie, kSEK "]
["(äldre TM-blankett sid 1):"]
[]
[{"$f":"\"Skador inträffade år \" & PeriodY-1","v":{"$error":"#VALUE!"}}]
[null,null,null,"N","U","N","U","N","U","N","U","N","U","N","U",{"$f":"\"År: \" & PeriodY-1","v":{"$error":"#VALUE!"}}]
["antal  N och"]
[{"$f":"\"utbetalt belopp U tom år \" & PeriodY & \", \"","v":"utbetalt belopp U tom år , "}]
["kSEK (äldre TM-blankett sid 1):"]
["Varav för:"]
[]
["  Ansvar"]
["  Brand"]
["  Stöld"]
["  Glas"]
["  Rättsskydd"]
["  Räddning"]
["  Maskin"]
["  Vagnskada"]
[]
[null,null,null,null,"     ",null,"  ",null,"    ",null,null,null,"    ",null,"    "]
[]
[null,null,"Gren:",null,null,null,null,null,null,"Traktor o"]
[null,null,"Bransch:","Lätt lastbil",null,"Tung lastbil",null,"Buss",null,"redskap",null,"Husvagn",null,"Släp"]
[]
["Motorfordonsförsäkring",null,null,null,null,null,null,null,null,null,null,null,null,null,null,{"$f":"\"År: \" & PeriodY","v":"År: "}]
["Antal fordon vid årets slut"]
["Antal fordon under årsrisk"]
["Intjänad premie, kSEK "]
["(äldre TM-blankett sid 1):"]
[]
[{"$f":"\"Skador inträffade år \" & PeriodY-1","v":{"$error":"#VALUE!"}}]
[null,null,null,"N","U","N","U","N","U","N","U","N","U","N","U",{"$f":"\"År: \" & PeriodY-1","v":{"$error":"#VALUE!"}}]
["antal  N och"]
[{"$f":"\"utbetalt belopp U tom år \" & PeriodY & \", \"","v":"utbetalt belopp U tom år , "}]
["kSEK (äldre TM-blankett sid 1):"]
["Varav för:"]
[]
["  Ansvar"]
["  Brand"]
["  Stöld"]
["  Glas"]
["  Rättsskydd"]
["  Räddning"]
["  Maskin"]
["  Vagnskada"]
[]
[]
[]
[null,null,"Gren:"]
[null,null,"Bransch:","Övriga",null,"Flytande",null,"Ej ",null,"Summa"]
[null,null,null,null,null,"försäkring",null,"fördelningsbart"]
["Motorfordonsförsäkring",null,null,null,null,null,null,null,null,null,null,{"$f":"\"År: \" & PeriodY","v":"År: "}]
["Antal fordon vid årets slut",null,null,null,null,null,null,null,null,{"$f":"IF(TagSwitch=1,\"DG24\",SUM(D10:O10,D37:O37,D64))","v":0}]
["Antal fordon under årsrisk",null,null,null,null,null,null,null,null,{"$f":"IF(TagSwitch=1,\"DG25\",SUM(D11:O11,D38:O38,D65))","v":0}]
["Intjänad premie, kSEK ",null,null,null,null,null,null,null,null," "]
["(äldre TM-blankett sid 1):",null,null,null,null,null,null,null,null,{"$f":"IF(TagSwitch=1,\"DG26\",SUM(D13:O13,D40:O40,D67:I67))","v":0}]
[]
[{"$f":"\"Skador inträffade år \" & PeriodY-1","v":{"$error":"#VALUE!"}}]
[null,null,null,"N","U","N","U","N","U","N","U",{"$f":"\"År: \" & PeriodY-1","v":{"$error":"#VALUE!"}}]
["antal  N och"]
[{"$f":"\"utbetalt belopp U tom år \" & PeriodY & \", \"","v":"utbetalt belopp U tom år , "}]
["kSEK (äldre TM-blankett sid 1):",null,null,null,null,null,null,null,null,{"$f":"IF(TagSwitch=1,\"DG27\",SUM(D19,F19,H19,J19,L19,N19,D46,F46,H46,J46,L46,N46,D73,F73,H73))","v":0},{"$f":"IF(TagSwitch=1,\"DH27\",SUM(E19,G19,I19,K19,M19,O19,E46,G46,I46,K46,M46,O46,E73,G73,I73))","v":0}]
["Varav för:"]
[]
["  Ansvar"]
["  Brand"]
["  Stöld"]
["  Glas"]
["  Rättsskydd"]
["  Räddning"]
["  Maskin"]
["  Vagnskada"]

{"sheet":"SoO","index":6,"n_rows":16,"n_cols":7,"rows_kept":16,"cut":false,"hidden":false,"merged":[[3,1,3,4],[3,5,3,6],[4,3,4,4],[4,5,4,6]]}
[{"$f":"\"Bolag: \" & Instruktion!B3 & \"       Period: \" & PeriodY","v":"Bolag:        Period: "}]
["ÖVERSIKTSSTATISTIK - Sjuk- och olycksfallsförsäkring"]
[]
[null,"Privat försäkring",null,null,null,"Arbetsgivarbetald försäkring"]
[null,"Individuell försäkring",null,"Gruppförsäkring",null," "]
[null,{"$f":"\"Antal\nförsäkringar år \" & PeriodY","v":"Antal\nförsäkringar år "},{"$f":"\"Premieinkomst \nbrutto (kSEK) år \" & PeriodY","v":"Premieinkomst \nbrutto (kSEK) år "},{"$f":"\"Antal \nförsäkringar år \" & PeriodY","v":"Antal \nförsäkringar år "},{"$f":"\"Premieinkomst \nbrutto (kSEK) år \" & PeriodY","v":"Premieinkomst \nbrutto (kSEK) år "},{"$f":"\"Antal \nförsäkringar år \" & PeriodY","v":"Antal \nförsäkringar år "},{"$f":"\"Premieinkomst \nbrutto (kSEK) år \" & PeriodY","v":"Premieinkomst \nbrutto (kSEK) år "}]
["Sjukförsäkring periodisk utbetalning"]
["Sjukförsäkring med engångsutbetalning"]
["     varav Critical illness"]
["Sjuk- och olycksfallsförsäkring"]
["Olycksfallsförsäkring"]
["Barnförsäkring (sjuk och/eller olycksfall)"]
["Sjukvårdsförsäkring"]
["Rehabiliteringsförsäkring"]
["Sjukavbrott eller ersättarförsäkring"]
["Summa",{"$f":"IF(TagSwitch=1,\"FA10\",SUM(B7:B8,B10:B15))","v":0},{"$f":"IF(TagSwitch=1,\"FB10\",SUM(C7:C8,C10:C15))","v":0},{"$f":"IF(TagSwitch=1,\"FC10\",SUM(D7:D8,D10:D15))","v":0},{"$f":"IF(TagSwitch=1,\"FD10\",SUM(E7:E8,E10:E15))","v":0},{"$f":"IF(TagSwitch=1,\"FE10\",SUM(F7:F8,F10:F15))","v":0},{"$f":"IF(TagSwitch=1,\"FF10\",SUM(G7:G8,G10:G15))","v":0}]

{"sheet":"Kommentarer","index":7,"n_rows":9,"n_cols":1,"rows_kept":9,"cut":false,"hidden":false,"merged":[]}
[{"$f":"\"Bolag: \" & Instruktion!B3 & \"       Period: \" & PeriodY","v":"Bolag:        Period: "}]
["KOMMENTARER"]
[]
["Här kan valfria kommentarer nedtecknas"]
[]
["Kommentar 1"]
["Kommentar 2"]
["Kommentar 3"]
["Kommentar 4"]

{"sheet":"System","index":8,"n_rows":1021,"n_cols":11,"rows_kept":1021,"cut":false,"hidden":true,"merged":[]}
["Rapportnamn","FSA"]
["Bolagsnamn",{"$f":"Instruktion!B3","v":""}]
["Institutnummer",{"$f":"Instruktion!B4","v":""},"F",null,"Vid ny rapport:"]
["Organisationsnummer",{"$f":"Instruktion!B5","v":""},"F",null,"1. Utgå från befintlig inrapporteringsblankett.",null,null,null,null,null,"Markera alla celler och välj Data - Verifiera"]
["Period",{"$f":"Instruktion!B7","v":""},null,null,"2. Ta bort gamla och kopiera över ny rapportflikar.",null,null,null,null,null,"- Heltal mellan -1000000000..1000000000"]
["Handläggare",{"$f":"Instruktion!B9","v":""},null,null,"3. Gå igenom texterna på Instruktionsfliken.",null,null,null,null,null,"- Felmeddelande 'Endast heltal är tillåtna'"]
["Telefon",{"$f":"Instruktion!B10","v":""},null,null,"4. Definiera konstanter i modulen ModulDefs."]
["AA1",{"$f":"CoF!$C$7","v":0},"",null,"9. Skydda arbetsbladen och göm systemfliken."]
["AC1",{"$f":"CoF!$E$7","v":0}]
["AE1",{"$f":"CoF!$G$7","v":0},null,null,"Funktioner vid ny rapport:"]
["AG1",{"$f":"CoF!$I$7","v":0}]
["AK1",{"$f":"CoF!$K$7","v":0}]
["AM1",{"$f":"CoF!$M$7","v":0}]
["AA2",{"$f":"CoF!$C$8","v":0}]
["AC2",{"$f":"CoF!$E$8","v":0}]
["AE2",{"$f":"CoF!$G$8","v":0},null,null,"TagSwitch:",0]
["AG2",{"$f":"CoF!$I$8","v":0}]
["AK2",{"$f":"CoF!$K$8","v":0}]
["AM2",{"$f":"CoF!$M$8","v":0}]
["AA3",{"$f":"CoF!$C$9","v":0}]
["AC3",{"$f":"CoF!$E$9","v":0}]
["AE3",{"$f":"CoF!$G$9","v":0}]
["AG3",{"$f":"CoF!$I$9","v":0}]
["AK3",{"$f":"CoF!$K$9","v":0}]
["AM3",{"$f":"CoF!$M$9","v":0}]
["AA6",{"$f":"CoF!$C$13","v":0}]
["AB6",{"$f":"CoF!$D$13","v":0}]
["AC6",{"$f":"CoF!$E$13","v":0}]
["AD6",{"$f":"CoF!$F$13","v":0}]
["AE6",{"$f":"CoF!$G$13","v":0}]
["AF6",{"$f":"CoF!$H$13","v":0}]
["AG6",{"$f":"CoF!$I$13","v":0}]
["AH6",{"$f":"CoF!$J$13","v":0}]
["AK6",{"$f":"CoF!$K$13","v":0}]
["AL6",{"$f":"CoF!$L$13","v":0}]
["AM6",{"$f":"CoF!$M$13","v":0}]
["AN6",{"$f":"CoF!$N$13","v":0}]
["AA7",{"$f":"CoF!$C$14","v":0}]
["AB7",{"$f":"CoF!$D$14","v":0}]
["AC7",{"$f":"CoF!$E$14","v":0}]
["AD7",{"$f":"CoF!$F$14","v":0}]
["AE7",{"$f":"CoF!$G$14","v":0}]
["AF7",{"$f":"CoF!$H$14","v":0}]
["AG7",{"$f":"CoF!$I$14","v":0}]
["AH7",{"$f":"CoF!$J$14","v":0}]
["AK7",{"$f":"CoF!$K$14","v":0}]
["AL7",{"$f":"CoF!$L$14","v":0}]
["AM7",{"$f":"CoF!$M$14","v":0}]
["AN7",{"$f":"CoF!$N$14","v":0}]
["AA18",{"$f":"CoF!$C$15","v":0}]
["AB18",{"$f":"CoF!$D$15","v":0}]
["AC18",{"$f":"CoF!$E$15","v":0}]
["AD18",{"$f":"CoF!$F$15","v":0}]
["AE18",{"$f":"CoF!$G$15","v":0}]
["AF18",{"$f":"CoF!$H$15","v":0}]
["AK18",{"$f":"CoF!$K$15","v":0}]
["AL18",{"$f":"CoF!$L$15","v":0}]
["AM18",{"$f":"CoF!$M$15","v":0}]
["AN18",{"$f":"CoF!$N$15","v":0}]
["AA19",{"$f":"CoF!$C$16","v":0}]
["AB19",{"$f":"CoF!$D$16","v":0}]
["AC19",{"$f":"CoF!$E$16","v":0}]
["AD19",{"$f":"CoF!$F$16","v":0}]
["AE19",{"$f":"CoF!$G$16","v":0}]
["AF19",{"$f":"CoF!$H$16","v":0}]
["AG19",{"$f":"CoF!$I$16","v":0}]
["AH19",{"$f":"CoF!$J$16","v":0}]
["AK19",{"$f":"CoF!$K$16","v":0}]
["AL19",{"$f":"CoF!$L$16","v":0}]
["AM19",{"$f":"CoF!$M$16","v":0}]
["AN19",{"$f":"CoF!$N$16","v":0}]
["AA14",{"$f":"CoF!$C$17","v":0}]
["AB14",{"$f":"CoF!$D$17","v":0}]
["AC14",{"$f":"CoF!$E$17","v":0}]
["AD14",{"$f":"CoF!$F$17","v":0}]
["AE14",{"$f":"CoF!$G$17","v":0}]
["AF14",{"$f":"CoF!$H$17","v":0}]
["AK14",{"$f":"CoF!$K$17","v":0}]
["AL14",{"$f":"CoF!$L$17","v":0}]
["AM14",{"$f":"CoF!$M$17","v":0}]
["AN14",{"$f":"CoF!$N$17","v":0}]
["AA13",{"$f":"CoF!$C$18","v":0}]
["AB13",{"$f":"CoF!$D$18","v":0}]
["AC13",{"$f":"CoF!$E$18","v":0}]
["AD13",{"$f":"CoF!$F$18","v":0}]
["AE13",{"$f":"CoF!$G$18","v":0}]
["AF13",{"$f":"CoF!$H$18","v":0}]
["AG13",{"$f":"CoF!$I$18","v":0}]
["AH13",{"$f":"CoF!$J$18","v":0}]
["AK13",{"$f":"CoF!$K$18","v":0}]
["AL13",{"$f":"CoF!$L$18","v":0}]
["AM13",{"$f":"CoF!$M$18","v":0}]
["AN13",{"$f":"CoF!$N$18","v":0}]
["AA8",{"$f":"CoF!$C$19","v":0}]
["AB8",{"$f":"CoF!$D$19","v":0}]
["AC8",{"$f":"CoF!$E$19","v":0}]
["AD8",{"$f":"CoF!$F$19","v":0}]
["AE8",{"$f":"CoF!$G$19","v":0}]
["AF8",{"$f":"CoF!$H$19","v":0}]
["AG8",{"$f":"CoF!$I$19","v":0}]
["AH8",{"$f":"CoF!$J$19","v":0}]
["AK8",{"$f":"CoF!$K$19","v":0}]
["AL8",{"$f":"CoF!$L$19","v":0}]
["AM8",{"$f":"CoF!$M$19","v":0}]
["AN8",{"$f":"CoF!$N$19","v":0}]
["AA9",{"$f":"CoF!$C$20","v":0}]
["AB9",{"$f":"CoF!$D$20","v":0}]
["AC9",{"$f":"CoF!$E$20","v":0}]
["AD9",{"$f":"CoF!$F$20","v":0}]
["AE9",{"$f":"CoF!$G$20","v":0}]
["AF9",{"$f":"CoF!$H$20","v":0}]
["AK9",{"$f":"CoF!$K$20","v":0}]
["AL9",{"$f":"CoF!$L$20","v":0}]
["AM9",{"$f":"CoF!$M$20","v":0}]
["AN9",{"$f":"CoF!$N$20","v":0}]
["AA10",{"$f":"CoF!$C$21","v":0}]
["AB10",{"$f":"CoF!$D$21","v":0}]
["AC10",{"$f":"CoF!$E$21","v":0}]
["AD10",{"$f":"CoF!$F$21","v":0}]
["AE10",{"$f":"CoF!$G$21","v":0}]
["AF10",{"$f":"CoF!$H$21","v":0}]
["AK10",{"$f":"CoF!$K$21","v":0}]
["AL10",{"$f":"CoF!$L$21","v":0}]
["AM10",{"$f":"CoF!$M$21","v":0}]
["AN10",{"$f":"CoF!$N$21","v":0}]
["AA20",{"$f":"CoF!$C$22","v":0}]
["AB20",{"$f":"CoF!$D$22","v":0}]
["AC20",{"$f":"CoF!$E$22","v":0}]
["AD20",{"$f":"CoF!$F$22","v":0}]
["AE20",{"$f":"CoF!$G$22","v":0}]
["AF20",{"$f":"CoF!$H$22","v":0}]
["AK20",{"$f":"CoF!$K$22","v":0}]
["AL20",{"$f":"CoF!$L$22","v":0}]
["AM20",{"$f":"CoF!$M$22","v":0}]
["AN20",{"$f":"CoF!$N$22","v":0}]
["AA21",{"$f":"CoF!$C$23","v":0}]
["AB21",{"$f":"CoF!$D$23","v":0}]
["AC21",{"$f":"CoF!$E$23","v":0}]
["AD21",{"$f":"CoF!$F$23","v":0}]
["AE21",{"$f":"CoF!$G$23","v":0}]
["AF21",{"$f":"CoF!$H$23","v":0}]
["AK21",{"$f":"CoF!$K$23","v":0}]
["AL21",{"$f":"CoF!$L$23","v":0}]
["AM21",{"$f":"CoF!$M$23","v":0}]
["AN21",{"$f":"CoF!$N$23","v":0}]
["AA22",{"$f":"CoF!$C$24","v":0}]
["AB22",{"$f":"CoF!$D$24","v":0}]
["AC22",{"$f":"CoF!$E$24","v":0}]
["AD22",{"$f":"CoF!$F$24","v":0}]
["AE22",{"$f":"CoF!$G$24","v":0}]
["AF22",{"$f":"CoF!$H$24","v":0}]
["AK22",{"$f":"CoF!$K$24","v":0}]
["AL22",{"$f":"CoF!$L$24","v":0}]
["AM22",{"$f":"CoF!$M$24","v":0}]
["AN22",{"$f":"CoF!$N$24","v":0}]
["AA12",{"$f":"CoF!$C$25","v":0}]
["AB12",{"$f":"CoF!$D$25","v":0}]
["AC12",{"$f":"CoF!$E$25","v":0}]
["AD12",{"$f":"CoF!$F$25","v":0}]
["AE12",{"$f":"CoF!$G$25","v":0}]
["AF12",{"$f":"CoF!$H$25","v":0}]
["AG12",{"$f":"CoF!$I$25","v":0}]
["AH12",{"$f":"CoF!$J$25","v":0}]
["AK12",{"$f":"CoF!$K$25","v":0}]
["AL12",{"$f":"CoF!$L$25","v":0}]
["AM12",{"$f":"CoF!$M$25","v":0}]
["AN12",{"$f":"CoF!$N$25","v":0}]
["AA5",{"$f":"CoF!$C$26","v":0}]
["AB5",{"$f":"CoF!$D$26","v":0}]
["AC5",{"$f":"CoF!$E$26","v":0}]
["AD5",{"$f":"CoF!$F$26","v":0}]
["AE5",{"$f":"CoF!$G$26","v":0}]
["AF5",{"$f":"CoF!$H$26","v":0}]
["AG5",{"$f":"CoF!$I$26","v":0}]
["AH5",{"$f":"CoF!$J$26","v":0}]
["AK5",{"$f":"CoF!$K$26","v":0}]
["AL5",{"$f":"CoF!$L$26","v":0}]
["AM5",{"$f":"CoF!$M$26","v":0}]
["AN5",{"$f":"CoF!$N$26","v":0}]
["AA15",{"$f":"CoF!$C$27","v":0}]
["AB15",{"$f":"CoF!$D$27","v":0}]
["AC15",{"$f":"CoF!$E$27","v":0}]
["AD15",{"$f":"CoF!$F$27","v":0}]
["AE15",{"$f":"CoF!$G$27","v":0}]
["AF15",{"$f":"CoF!$H$27","v":0}]
["AG15",{"$f":"CoF!$I$27","v":0}]
["AH15",{"$f":"CoF!$J$27","v":0}]
["AK15",{"$f":"CoF!$K$27","v":0}]
["AL15",{"$f":"CoF!$L$27","v":0}]
["AM15",{"$f":"CoF!$M$27","v":0}]
["AN15",{"$f":"CoF!$N$27","v":0}]
["AA16",{"$f":"CoF!$C$28","v":0}]
["AB16",{"$f":"CoF!$D$28","v":0}]
["AC16",{"$f":"CoF!$E$28","v":0}]
["AD16",{"$f":"CoF!$F$28","v":0}]
["AE16",{"$f":"CoF!$G$28","v":0}]
["AF16",{"$f":"CoF!$H$28","v":0}]
["AG16",{"$f":"CoF!$I$28","v":0}]
["AH16",{"$f":"CoF!$J$28","v":0}]
["AK16",{"$f":"CoF!$K$28","v":0}]
["AL16",{"$f":"CoF!$L$28","v":0}]
["AM16",{"$f":"CoF!$M$28","v":0}]
["AN16",{"$f":"CoF!$N$28","v":0}]
["AB17",{"$f":"CoF!$D$29","v":0}]
["AD17",{"$f":"CoF!$F$29","v":0}]
["AF17",{"$f":"CoF!$H$29","v":0}]
["AH17",{"$f":"CoF!$J$29","v":0}]
["AL17",{"$f":"CoF!$L$29","v":0}]
["AN17",{"$f":"CoF!$N$29","v":0}]
["BA2",{"$f":"Brand!$C$15","v":0}]
["BB2",{"$f":"Brand!$D$15","v":0}]
["BC2",{"$f":"Brand!$E$15","v":0}]
["BD2",{"$f":"Brand!$F$15","v":0}]
["BE2",{"$f":"Brand!$G$15","v":0}]
["BF2",{"$f":"Brand!$H$15","v":0}]
["BG2",{"$f":"Brand!$I$15","v":0}]
["BH2",{"$f":"Brand!$J$15","v":0}]
["BL2",{"$f":"Brand!$K$15","v":0}]
["BM2",{"$f":"Brand!$L$15","v":0}]
["BN2",{"$f":"Brand!$M$15","v":0}]
["BO2",{"$f":"Brand!$N$15","v":0}]
["BA3",{"$f":"Brand!$C$16","v":0}]
["BB3",{"$f":"Brand!$D$16","v":0}]
["BC3",{"$f":"Brand!$E$16","v":0}]
["BD3",{"$f":"Brand!$F$16","v":0}]
["BE3",{"$f":"Brand!$G$16","v":0}]
["BF3",{"$f":"Brand!$H$16","v":0}]
["BG3",{"$f":"Brand!$I$16","v":0}]
["BH3",{"$f":"Brand!$J$16","v":0}]
["BL3",{"$f":"Brand!$K$16","v":0}]
["BM3",{"$f":"Brand!$L$16","v":0}]
["BN3",{"$f":"Brand!$M$16","v":0}]
["BO3",{"$f":"Brand!$N$16","v":0}]
["BA4",{"$f":"Brand!$C$17","v":0}]
["BB4",{"$f":"Brand!$D$17","v":0}]
["BC4",{"$f":"Brand!$E$17","v":0}]
["BD4",{"$f":"Brand!$F$17","v":0}]
["BE4",{"$f":"Brand!$G$17","v":0}]
["BF4",{"$f":"Brand!$H$17","v":0}]
["BG4",{"$f":"Brand!$I$17","v":0}]
["BH4",{"$f":"Brand!$J$17","v":0}]
["BL4",{"$f":"Brand!$K$17","v":0}]
["BM4",{"$f":"Brand!$L$17","v":0}]
["BN4",{"$f":"Brand!$M$17","v":0}]
["BO4",{"$f":"Brand!$N$17","v":0}]
["BA5",{"$f":"Brand!$C$18","v":0}]
["BB5",{"$f":"Brand!$D$18","v":0}]
["BC5",{"$f":"Brand!$E$18","v":0}]
["BD5",{"$f":"Brand!$F$18","v":0}]
["BE5",{"$f":"Brand!$G$18","v":0}]
["BF5",{"$f":"Brand!$H$18","v":0}]
["BG5",{"$f":"Brand!$I$18","v":0}]
["BH5",{"$f":"Brand!$J$18","v":0}]
["BL5",{"$f":"Brand!$K$18","v":0}]
["BM5",{"$f":"Brand!$L$18","v":0}]
["BN5",{"$f":"Brand!$M$18","v":0}]
["BO5",{"$f":"Brand!$N$18","v":0}]
["BA6",{"$f":"Brand!$C$19","v":0}]
["BB6",{"$f":"Brand!$D$19","v":0}]
["BC6",{"$f":"Brand!$E$19","v":0}]
["BD6",{"$f":"Brand!$F$19","v":0}]
["BE6",{"$f":"Brand!$G$19","v":0}]
["BF6",{"$f":"Brand!$H$19","v":0}]
["BG6",{"$f":"Brand!$I$19","v":0}]
["BH6",{"$f":"Brand!$J$19","v":0}]
["BL6",{"$f":"Brand!$K$19","v":0}]
["BM6",{"$f":"Brand!$L$19","v":0}]
["BN6",{"$f":"Brand!$M$19","v":0}]
["BO6",{"$f":"Brand!$N$19","v":0}]
["BA7",{"$f":"Brand!$C$20","v":0}]
["BB7",{"$f":"Brand!$D$20","v":0}]
["BC7",{"$f":"Brand!$E$20","v":0}]
["BD7",{"$f":"Brand!$F$20","v":0}]
["BE7",{"$f":"Brand!$G$20","v":0}]
["BF7",{"$f":"Brand!$H$20","v":0}]
["BG7",{"$f":"Brand!$I$20","v":0}]
["BH7",{"$f":"Brand!$J$20","v":0}]
["BL7",{"$f":"Brand!$K$20","v":0}]
["BM7",{"$f":"Brand!$L$20","v":0}]
["BN7",{"$f":"Brand!$M$20","v":0}]
["BO7",{"$f":"Brand!$N$20","v":0}]
["BA8",{"$f":"Brand!$C$21","v":0}]
["BB8",{"$f":"Brand!$D$21","v":0}]
["BC8",{"$f":"Brand!$E$21","v":0}]
["BD8",{"$f":"Brand!$F$21","v":0}]
["BE8",{"$f":"Brand!$G$21","v":0}]
["BF8",{"$f":"Brand!$H$21","v":0}]
["BG8",{"$f":"Brand!$I$21","v":0}]
["BH8",{"$f":"Brand!$J$21","v":0}]
["BL8",{"$f":"Brand!$K$21","v":0}]
["BM8",{"$f":"Brand!$L$21","v":0}]
["BN8",{"$f":"Brand!$M$21","v":0}]
["BO8",{"$f":"Brand!$N$21","v":0}]
["BA9",{"$f":"Brand!$C$22","v":0}]
["BB9",{"$f":"Brand!$D$22","v":0}]
["BC9",{"$f":"Brand!$E$22","v":0}]
["BD9",{"$f":"Brand!$F$22","v":0}]
["BE9",{"$f":"Brand!$G$22","v":0}]
["BF9",{"$f":"Brand!$H$22","v":0}]
["BG9",{"$f":"Brand!$I$22","v":0}]
["BH9",{"$f":"Brand!$J$22","v":0}]
["BL9",{"$f":"Brand!$K$22","v":0}]
["BM9",{"$f":"Brand!$L$22","v":0}]
["BN9",{"$f":"Brand!$M$22","v":0}]
["BO9",{"$f":"Brand!$N$22","v":0}]
["BA10",{"$f":"Brand!$C$23","v":0}]
["BB10",{"$f":"Brand!$D$23","v":0}]
["BC10",{"$f":"Brand!$E$23","v":0}]
["BD10",{"$f":"Brand!$F$23","v":0}]
["BE10",{"$f":"Brand!$G$23","v":0}]
["BF10",{"$f":"Brand!$H$23","v":0}]
["BG10",{"$f":"Brand!$I$23","v":0}]
["BH10",{"$f":"Brand!$J$23","v":0}]
["BL10",{"$f":"Brand!$K$23","v":0}]
["BM10",{"$f":"Brand!$L$23","v":0}]
["BN10",{"$f":"Brand!$M$23","v":0}]
["BO10",{"$f":"Brand!$N$23","v":0}]
["BA11",{"$f":"Brand!$C$24","v":0}]
["BB11",{"$f":"Brand!$D$24","v":0}]
["BC11",{"$f":"Brand!$E$24","v":0}]
["BD11",{"$f":"Brand!$F$24","v":0}]
["BE11",{"$f":"Brand!$G$24","v":0}]
["BF11",{"$f":"Brand!$H$24","v":0}]
["BG11",{"$f":"Brand!$I$24","v":0}]
["BH11",{"$f":"Brand!$J$24","v":0}]
["BL11",{"$f":"Brand!$K$24","v":0}]
["BM11",{"$f":"Brand!$L$24","v":0}]
["BN11",{"$f":"Brand!$M$24","v":0}]
["BO11",{"$f":"Brand!$N$24","v":0}]
["BA12",{"$f":"Brand!$C$25","v":0}]
["BB12",{"$f":"Brand!$D$25","v":0}]
["BC12",{"$f":"Brand!$E$25","v":0}]
["BD12",{"$f":"Brand!$F$25","v":0}]
["BE12",{"$f":"Brand!$G$25","v":0}]
["BF12",{"$f":"Brand!$H$25","v":0}]
["BG12",{"$f":"Brand!$I$25","v":0}]
["BH12",{"$f":"Brand!$J$25","v":0}]
["BL12",{"$f":"Brand!$K$25","v":0}]
["BM12",{"$f":"Brand!$L$25","v":0}]
["BN12",{"$f":"Brand!$M$25","v":0}]
["BO12",{"$f":"Brand!$N$25","v":0}]
["BA13",{"$f":"Brand!$C$26","v":0}]
["BB13",{"$f":"Brand!$D$26","v":0}]
["BC13",{"$f":"Brand!$E$26","v":0}]
["BD13",{"$f":"Brand!$F$26","v":0}]
["BE13",{"$f":"Brand!$G$26","v":0}]
["BF13",{"$f":"Brand!$H$26","v":0}]
["BG13",{"$f":"Brand!$I$26","v":0}]
["BH13",{"$f":"Brand!$J$26","v":0}]
["BL13",{"$f":"Brand!$K$26","v":0}]
["BM13",{"$f":"Brand!$L$26","v":0}]
["BN13",{"$f":"Brand!$M$26","v":0}]
["BO13",{"$f":"Brand!$N$26","v":0}]
["BA14",{"$f":"Brand!$C$27","v":0}]
["BB14",{"$f":"Brand!$D$27","v":0}]
["BC14",{"$f":"Brand!$E$27","v":0}]
["BD14",{"$f":"Brand!$F$27","v":0}]
["BE14",{"$f":"Brand!$G$27","v":0}]
["BF14",{"$f":"Brand!$H$27","v":0}]
["BG14",{"$f":"Brand!$I$27","v":0}]
["BH14",{"$f":"Brand!$J$27","v":0}]
["BL14",{"$f":"Brand!$K$27","v":0}]
["BM14",{"$f":"Brand!$L$27","v":0}]
["BN14",{"$f":"Brand!$M$27","v":0}]
["BO14",{"$f":"Brand!$N$27","v":0}]
["BA15",{"$f":"Brand!$C$28","v":0}]
["BB15",{"$f":"Brand!$D$28","v":0}]
["BC15",{"$f":"Brand!$E$28","v":0}]
["BD15",{"$f":"Brand!$F$28","v":0}]
["BE15",{"$f":"Brand!$G$28","v":0}]
["BF15",{"$f":"Brand!$H$28","v":0}]
["BG15",{"$f":"Brand!$I$28","v":0}]
["BH15",{"$f":"Brand!$J$28","v":0}]
["BL15",{"$f":"Brand!$K$28","v":0}]
["BM15",{"$f":"Brand!$L$28","v":0}]
["BN15",{"$f":"Brand!$M$28","v":0}]
["BO15",{"$f":"Brand!$N$28","v":0}]
["BA16",{"$f":"Brand!$C$29","v":0}]
["BB16",{"$f":"Brand!$D$29","v":0}]
["BC16",{"$f":"Brand!$E$29","v":0}]
["BD16",{"$f":"Brand!$F$29","v":0}]
["BE16",{"$f":"Brand!$G$29","v":0}]
["BF16",{"$f":"Brand!$H$29","v":0}]
["BG16",{"$f":"Brand!$I$29","v":0}]
["BH16",{"$f":"Brand!$J$29","v":0}]
["BL16",{"$f":"Brand!$K$29","v":0}]
["BM16",{"$f":"Brand!$L$29","v":0}]
["BN16",{"$f":"Brand!$M$29","v":0}]
["BO16",{"$f":"Brand!$N$29","v":0}]
["BA17",{"$f":"Brand!$C$30","v":0}]
["BB17",{"$f":"Brand!$D$30","v":0}]
["BC17",{"$f":"Brand!$E$30","v":0}]
["BD17",{"$f":"Brand!$F$30","v":0}]
["BE17",{"$f":"Brand!$G$30","v":0}]
["BF17",{"$f":"Brand!$H$30","v":0}]
["BG17",{"$f":"Brand!$I$30","v":0}]
["BH17",{"$f":"Brand!$J$30","v":0}]
["BL17",{"$f":"Brand!$K$30","v":0}]
["BM17",{"$f":"Brand!$L$30","v":0}]
["BN17",{"$f":"Brand!$M$30","v":0}]
["BO17",{"$f":"Brand!$N$30","v":0}]
["BA18",{"$f":"Brand!$C$31","v":0}]
["BB18",{"$f":"Brand!$D$31","v":0}]
["BC18",{"$f":"Brand!$E$31","v":0}]
["BD18",{"$f":"Brand!$F$31","v":0}]
["BE18",{"$f":"Brand!$G$31","v":0}]
["BF18",{"$f":"Brand!$H$31","v":0}]
["BG18",{"$f":"Brand!$I$31","v":0}]
["BH18",{"$f":"Brand!$J$31","v":0}]
["BL18",{"$f":"Brand!$K$31","v":0}]
["BM18",{"$f":"Brand!$L$31","v":0}]
["BN18",{"$f":"Brand!$M$31","v":0}]
["BO18",{"$f":"Brand!$N$31","v":0}]
["BA19",{"$f":"Brand!$C$32","v":0}]
["BB19",{"$f":"Brand!$D$32","v":0}]
["BC19",{"$f":"Brand!$E$32","v":0}]
["BD19",{"$f":"Brand!$F$32","v":0}]
["BE19",{"$f":"Brand!$G$32","v":0}]
["BF19",{"$f":"Brand!$H$32","v":0}]
["BG19",{"$f":"Brand!$I$32","v":0}]
["BH19",{"$f":"Brand!$J$32","v":0}]
["BL19",{"$f":"Brand!$K$32","v":0}]
["BM19",{"$f":"Brand!$L$32","v":0}]
["BN19",{"$f":"Brand!$M$32","v":0}]
["BO19",{"$f":"Brand!$N$32","v":0}]
["BA20",{"$f":"Brand!$C$33","v":0}]
["BB20",{"$f":"Brand!$D$33","v":0}]
["BC20",{"$f":"Brand!$E$33","v":0}]
["BD20",{"$f":"Brand!$F$33","v":0}]
["BE20",{"$f":"Brand!$G$33","v":0}]
["BF20",{"$f":"Brand!$H$33","v":0}]
["BG20",{"$f":"Brand!$I$33","v":0}]
["BH20",{"$f":"Brand!$J$33","v":0}]
["BL20",{"$f":"Brand!$K$33","v":0}]
["BM20",{"$f":"Brand!$L$33","v":0}]
["BN20",{"$f":"Brand!$M$33","v":0}]
["BO20",{"$f":"Brand!$N$33","v":0}]
["BA21",{"$f":"Brand!$C$34","v":0}]
["BB21",{"$f":"Brand!$D$34","v":0}]
["BC21",{"$f":"Brand!$E$34","v":0}]
["BD21",{"$f":"Brand!$F$34","v":0}]
["BE21",{"$f":"Brand!$G$34","v":0}]
["BF21",{"$f":"Brand!$H$34","v":0}]
["BG21",{"$f":"Brand!$I$34","v":0}]
["BH21",{"$f":"Brand!$J$34","v":0}]
["BL21",{"$f":"Brand!$K$34","v":0}]
["BM21",{"$f":"Brand!$L$34","v":0}]
["BN21",{"$f":"Brand!$M$34","v":0}]
["BO21",{"$f":"Brand!$N$34","v":0}]
["BA22",{"$f":"Brand!$C$35","v":0}]
["BB22",{"$f":"Brand!$D$35","v":0}]
["BC22",{"$f":"Brand!$E$35","v":0}]
["BD22",{"$f":"Brand!$F$35","v":0}]
["BE22",{"$f":"Brand!$G$35","v":0}]
["BF22",{"$f":"Brand!$H$35","v":0}]
["BG22",{"$f":"Brand!$I$35","v":0}]
["BH22",{"$f":"Brand!$J$35","v":0}]
["BL22",{"$f":"Brand!$K$35","v":0}]
["BM22",{"$f":"Brand!$L$35","v":0}]
["BN22",{"$f":"Brand!$M$35","v":0}]
["BO22",{"$f":"Brand!$N$35","v":0}]
["BA23",{"$f":"Brand!$C$36","v":0}]
["BB23",{"$f":"Brand!$D$36","v":0}]
["BC23",{"$f":"Brand!$E$36","v":0}]
["BD23",{"$f":"Brand!$F$36","v":0}]
["BE23",{"$f":"Brand!$G$36","v":0}]
["BF23",{"$f":"Brand!$H$36","v":0}]
["BG23",{"$f":"Brand!$I$36","v":0}]
["BH23",{"$f":"Brand!$J$36","v":0}]
["BL23",{"$f":"Brand!$K$36","v":0}]
["BM23",{"$f":"Brand!$L$36","v":0}]
["BN23",{"$f":"Brand!$M$36","v":0}]
["BO23",{"$f":"Brand!$N$36","v":0}]
["HA1",{"$f":"Naturskador!$C$15","v":0}]
["HB1",{"$f":"Naturskador!$D$15","v":0}]
["HC1",{"$f":"Naturskador!$E$15","v":0}]
["HD1",{"$f":"Naturskador!$F$15","v":0}]
["HE1",{"$f":"Naturskador!$G$15","v":0}]
["HF1",{"$f":"Naturskador!$H$15","v":0}]
["HG1",{"$f":"Naturskador!$I$15","v":0}]
["HH1",{"$f":"Naturskador!$J$15","v":0}]
["HI1",{"$f":"Naturskador!$K$15","v":0}]
["HJ1",{"$f":"Naturskador!$L$15","v":0}]
["HK1",{"$f":"Naturskador!$M$15","v":0}]
["HL1",{"$f":"Naturskador!$N$15","v":0}]
["HA2",{"$f":"Naturskador!$C$16","v":0}]
["HB2",{"$f":"Naturskador!$D$16","v":0}]
["HC2",{"$f":"Naturskador!$E$16","v":0}]
["HD2",{"$f":"Naturskador!$F$16","v":0}]
["HE2",{"$f":"Naturskador!$G$16","v":0}]
["HF2",{"$f":"Naturskador!$H$16","v":0}]
["HG2",{"$f":"Naturskador!$I$16","v":0}]
["HH2",{"$f":"Naturskador!$J$16","v":0}]
["HI2",{"$f":"Naturskador!$K$16","v":0}]
["HJ2",{"$f":"Naturskador!$L$16","v":0}]
["HK2",{"$f":"Naturskador!$M$16","v":0}]
["HL2",{"$f":"Naturskador!$N$16","v":0}]
["HA3",{"$f":"Naturskador!$C$17","v":0}]
["HB3",{"$f":"Naturskador!$D$17","v":0}]
["HC3",{"$f":"Naturskador!$E$17","v":0}]
["HD3",{"$f":"Naturskador!$F$17","v":0}]
["HE3",{"$f":"Naturskador!$G$17","v":0}]
["HF3",{"$f":"Naturskador!$H$17","v":0}]
["HG3",{"$f":"Naturskador!$I$17","v":0}]
["HH3",{"$f":"Naturskador!$J$17","v":0}]
["HI3",{"$f":"Naturskador!$K$17","v":0}]
["HJ3",{"$f":"Naturskador!$L$17","v":0}]
["HK3",{"$f":"Naturskador!$M$17","v":0}]
["HL3",{"$f":"Naturskador!$N$17","v":0}]
["HA4",{"$f":"Naturskador!$C$18","v":0}]
["HB4",{"$f":"Naturskador!$D$18","v":0}]
["HC4",{"$f":"Naturskador!$E$18","v":0}]
["HD4",{"$f":"Naturskador!$F$18","v":0}]
["HE4",{"$f":"Naturskador!$G$18","v":0}]
["HF4",{"$f":"Naturskador!$H$18","v":0}]
["HG4",{"$f":"Naturskador!$I$18","v":0}]
["HH4",{"$f":"Naturskador!$J$18","v":0}]
["HI4",{"$f":"Naturskador!$K$18","v":0}]
["HJ4",{"$f":"Naturskador!$L$18","v":0}]
["HK4",{"$f":"Naturskador!$M$18","v":0}]
["HL4",{"$f":"Naturskador!$N$18","v":0}]
["HA5",{"$f":"Naturskador!$C$19","v":0}]
["HB5",{"$f":"Naturskador!$D$19","v":0}]
["HC5",{"$f":"Naturskador!$E$19","v":0}]
["HD5",{"$f":"Naturskador!$F$19","v":0}]
["HE5",{"$f":"Naturskador!$G$19","v":0}]
["HF5",{"$f":"Naturskador!$H$19","v":0}]
["HG5",{"$f":"Naturskador!$I$19","v":0}]
["HH5",{"$f":"Naturskador!$J$19","v":0}]
["HI5",{"$f":"Naturskador!$K$19","v":0}]
["HJ5",{"$f":"Naturskador!$L$19","v":0}]
["HK5",{"$f":"Naturskador!$M$19","v":0}]
["HL5",{"$f":"Naturskador!$N$19","v":0}]
["HA6",{"$f":"Naturskador!$C$20","v":0}]
["HB6",{"$f":"Naturskador!$D$20","v":0}]
["HC6",{"$f":"Naturskador!$E$20","v":0}]
["HD6",{"$f":"Naturskador!$F$20","v":0}]
["HE6",{"$f":"Naturskador!$G$20","v":0}]
["HF6",{"$f":"Naturskador!$H$20","v":0}]
["HG6",{"$f":"Naturskador!$I$20","v":0}]
["HH6",{"$f":"Naturskador!$J$20","v":0}]
["HI6",{"$f":"Naturskador!$K$20","v":0}]
["HJ6",{"$f":"Naturskador!$L$20","v":0}]
["HK6",{"$f":"Naturskador!$M$20","v":0}]
["HL6",{"$f":"Naturskador!$N$20","v":0}]
["HA7",{"$f":"Naturskador!$C$21","v":0}]
["HB7",{"$f":"Naturskador!$D$21","v":0}]
["HC7",{"$f":"Naturskador!$E$21","v":0}]
["HD7",{"$f":"Naturskador!$F$21","v":0}]
["HE7",{"$f":"Naturskador!$G$21","v":0}]
["HF7",{"$f":"Naturskador!$H$21","v":0}]
["HG7",{"$f":"Naturskador!$I$21","v":0}]
["HH7",{"$f":"Naturskador!$J$21","v":0}]
["HI7",{"$f":"Naturskador!$K$21","v":0}]
["HJ7",{"$f":"Naturskador!$L$21","v":0}]
["HK7",{"$f":"Naturskador!$M$21","v":0}]
["HL7",{"$f":"Naturskador!$N$21","v":0}]
["HA8",{"$f":"Naturskador!$C$22","v":0}]
["HB8",{"$f":"Naturskador!$D$22","v":0}]
["HC8",{"$f":"Naturskador!$E$22","v":0}]
["HD8",{"$f":"Naturskador!$F$22","v":0}]
["HE8",{"$f":"Naturskador!$G$22","v":0}]
["HF8",{"$f":"Naturskador!$H$22","v":0}]
["HG8",{"$f":"Naturskador!$I$22","v":0}]
["HH8",{"$f":"Naturskador!$J$22","v":0}]
["HI8",{"$f":"Naturskador!$K$22","v":0}]
["HJ8",{"$f":"Naturskador!$L$22","v":0}]
["HK8",{"$f":"Naturskador!$M$22","v":0}]
["HL8",{"$f":"Naturskador!$N$22","v":0}]
["HA9",{"$f":"Naturskador!$C$23","v":0}]
["HB9",{"$f":"Naturskador!$D$23","v":0}]
["HC9",{"$f":"Naturskador!$E$23","v":0}]
["HD9",{"$f":"Naturskador!$F$23","v":0}]
["HE9",{"$f":"Naturskador!$G$23","v":0}]
["HF9",{"$f":"Naturskador!$H$23","v":0}]
["HG9",{"$f":"Naturskador!$I$23","v":0}]
["HH9",{"$f":"Naturskador!$J$23","v":0}]
["HI9",{"$f":"Naturskador!$K$23","v":0}]
["HJ9",{"$f":"Naturskador!$L$23","v":0}]
["HK9",{"$f":"Naturskador!$M$23","v":0}]
["HL9",{"$f":"Naturskador!$N$23","v":0}]
["HA10",{"$f":"Naturskador!$C$24","v":0}]
["HB10",{"$f":"Naturskador!$D$24","v":0}]
["HC10",{"$f":"Naturskador!$E$24","v":0}]
["HD10",{"$f":"Naturskador!$F$24","v":0}]
["HE10",{"$f":"Naturskador!$G$24","v":0}]
["HF10",{"$f":"Naturskador!$H$24","v":0}]
["HG10",{"$f":"Naturskador!$I$24","v":0}]
["HH10",{"$f":"Naturskador!$J$24","v":0}]
["HI10",{"$f":"Naturskador!$K$24","v":0}]
["HJ10",{"$f":"Naturskador!$L$24","v":0}]
["HK10",{"$f":"Naturskador!$M$24","v":0}]
["HL10",{"$f":"Naturskador!$N$24","v":0}]
["HA11",{"$f":"Naturskador!$C$25","v":0}]
["HB11",{"$f":"Naturskador!$D$25","v":0}]
["HC11",{"$f":"Naturskador!$E$25","v":0}]
["HD11",{"$f":"Naturskador!$F$25","v":0}]
["HE11",{"$f":"Naturskador!$G$25","v":0}]
["HF11",{"$f":"Naturskador!$H$25","v":0}]
["HG11",{"$f":"Naturskador!$I$25","v":0}]
["HH11",{"$f":"Naturskador!$J$25","v":0}]
["HI11",{"$f":"Naturskador!$K$25","v":0}]
["HJ11",{"$f":"Naturskador!$L$25","v":0}]
["HK11",{"$f":"Naturskador!$M$25","v":0}]
["HL11",{"$f":"Naturskador!$N$25","v":0}]
["HA12",{"$f":"Naturskador!$C$26","v":0}]
["HB12",{"$f":"Naturskador!$D$26","v":0}]
["HC12",{"$f":"Naturskador!$E$26","v":0}]
["HD12",{"$f":"Naturskador!$F$26","v":0}]
["HE12",{"$f":"Naturskador!$G$26","v":0}]
["HF12",{"$f":"Naturskador!$H$26","v":0}]
["HG12",{"$f":"Naturskador!$I$26","v":0}]
["HH12",{"$f":"Naturskador!$J$26","v":0}]
["HI12",{"$f":"Naturskador!$K$26","v":0}]
["HJ12",{"$f":"Naturskador!$L$26","v":0}]
["HK12",{"$f":"Naturskador!$M$26","v":0}]
["HL12",{"$f":"Naturskador!$N$26","v":0}]
["HA13",{"$f":"Naturskador!$C$27","v":0}]
["HB13",{"$f":"Naturskador!$D$27","v":0}]
["HC13",{"$f":"Naturskador!$E$27","v":0}]
["HD13",{"$f":"Naturskador!$F$27","v":0}]
["HE13",{"$f":"Naturskador!$G$27","v":0}]
["HF13",{"$f":"Naturskador!$H$27","v":0}]
["HG13",{"$f":"Naturskador!$I$27","v":0}]
["HH13",{"$f":"Naturskador!$J$27","v":0}]
["HI13",{"$f":"Naturskador!$K$27","v":0}]
["HJ13",{"$f":"Naturskador!$L$27","v":0}]
["HK13",{"$f":"Naturskador!$M$27","v":0}]
["HL13",{"$f":"Naturskador!$N$27","v":0}]
["HA14",{"$f":"Naturskador!$C$28","v":0}]
["HB14",{"$f":"Naturskador!$D$28","v":0}]
["HC14",{"$f":"Naturskador!$E$28","v":0}]
["HD14",{"$f":"Naturskador!$F$28","v":0}]
["HE14",{"$f":"Naturskador!$G$28","v":0}]
["HF14",{"$f":"Naturskador!$H$28","v":0}]
["HG14",{"$f":"Naturskador!$I$28","v":0}]
["HH14",{"$f":"Naturskador!$J$28","v":0}]
["HI14",{"$f":"Naturskador!$K$28","v":0}]
["HJ14",{"$f":"Naturskador!$L$28","v":0}]
["HK14",{"$f":"Naturskador!$M$28","v":0}]
["HL14",{"$f":"Naturskador!$N$28","v":0}]
["HA15",{"$f":"Naturskador!$C$29","v":0}]
["HB15",{"$f":"Naturskador!$D$29","v":0}]
["HC15",{"$f":"Naturskador!$E$29","v":0}]
["HD15",{"$f":"Naturskador!$F$29","v":0}]
["HE15",{"$f":"Naturskador!$G$29","v":0}]
["HF15",{"$f":"Naturskador!$H$29","v":0}]
["HG15",{"$f":"Naturskador!$I$29","v":0}]
["HH15",{"$f":"Naturskador!$J$29","v":0}]
["HI15",{"$f":"Naturskador!$K$29","v":0}]
["HJ15",{"$f":"Naturskador!$L$29","v":0}]
["HK15",{"$f":"Naturskador!$M$29","v":0}]
["HL15",{"$f":"Naturskador!$N$29","v":0}]
["HA16",{"$f":"Naturskador!$C$30","v":0}]
["HB16",{"$f":"Naturskador!$D$30","v":0}]
["HC16",{"$f":"Naturskador!$E$30","v":0}]
["HD16",{"$f":"Naturskador!$F$30","v":0}]
["HE16",{"$f":"Naturskador!$G$30","v":0}]
["HF16",{"$f":"Naturskador!$H$30","v":0}]
["HG16",{"$f":"Naturskador!$I$30","v":0}]
["HH16",{"$f":"Naturskador!$J$30","v":0}]
["HI16",{"$f":"Naturskador!$K$30","v":0}]
["HJ16",{"$f":"Naturskador!$L$30","v":0}]
["HK16",{"$f":"Naturskador!$M$30","v":0}]
["HL16",{"$f":"Naturskador!$N$30","v":0}]
["HA17",{"$f":"Naturskador!$C$31","v":0}]
["HB17",{"$f":"Naturskador!$D$31","v":0}]
["HC17",{"$f":"Naturskador!$E$31","v":0}]
["HD17",{"$f":"Naturskador!$F$31","v":0}]
["HE17",{"$f":"Naturskador!$G$31","v":0}]
["HF17",{"$f":"Naturskador!$H$31","v":0}]
["HG17",{"$f":"Naturskador!$I$31","v":0}]
["HH17",{"$f":"Naturskador!$J$31","v":0}]
["HI17",{"$f":"Naturskador!$K$31","v":0}]
["HJ17",{"$f":"Naturskador!$L$31","v":0}]
["HK17",{"$f":"Naturskador!$M$31","v":0}]
["HL17",{"$f":"Naturskador!$N$31","v":0}]
["HA18",{"$f":"Naturskador!$C$32","v":0}]
["HB18",{"$f":"Naturskador!$D$32","v":0}]
["HC18",{"$f":"Naturskador!$E$32","v":0}]
["HD18",{"$f":"Naturskador!$F$32","v":0}]
["HE18",{"$f":"Naturskador!$G$32","v":0}]
["HF18",{"$f":"Naturskador!$H$32","v":0}]
["HG18",{"$f":"Naturskador!$I$32","v":0}]
["HH18",{"$f":"Naturskador!$J$32","v":0}]
["HI18",{"$f":"Naturskador!$K$32","v":0}]
["HJ18",{"$f":"Naturskador!$L$32","v":0}]
["HK18",{"$f":"Naturskador!$M$32","v":0}]
["HL18",{"$f":"Naturskador!$N$32","v":0}]
["HA19",{"$f":"Naturskador!$C$33","v":0}]
["HB19",{"$f":"Naturskador!$D$33","v":0}]
["HC19",{"$f":"Naturskador!$E$33","v":0}]
["HD19",{"$f":"Naturskador!$F$33","v":0}]
["HE19",{"$f":"Naturskador!$G$33","v":0}]
["HF19",{"$f":"Naturskador!$H$33","v":0}]
["HG19",{"$f":"Naturskador!$I$33","v":0}]
["HH19",{"$f":"Naturskador!$J$33","v":0}]
["HI19",{"$f":"Naturskador!$K$33","v":0}]
["HJ19",{"$f":"Naturskador!$L$33","v":0}]
["HK19",{"$f":"Naturskador!$M$33","v":0}]
["HL19",{"$f":"Naturskador!$N$33","v":0}]
["HA20",{"$f":"Naturskador!$C$34","v":0}]
["HB20",{"$f":"Naturskador!$D$34","v":0}]
["HC20",{"$f":"Naturskador!$E$34","v":0}]
["HD20",{"$f":"Naturskador!$F$34","v":0}]
["HE20",{"$f":"Naturskador!$G$34","v":0}]
["HF20",{"$f":"Naturskador!$H$34","v":0}]
["HG20",{"$f":"Naturskador!$I$34","v":0}]
["HH20",{"$f":"Naturskador!$J$34","v":0}]
["HI20",{"$f":"Naturskador!$K$34","v":0}]
["HJ20",{"$f":"Naturskador!$L$34","v":0}]
["HK20",{"$f":"Naturskador!$M$34","v":0}]
["HL20",{"$f":"Naturskador!$N$34","v":0}]
["HA21",{"$f":"Naturskador!$C$35","v":0}]
["HB21",{"$f":"Naturskador!$D$35","v":0}]
["HC21",{"$f":"Naturskador!$E$35","v":0}]
["HD21",{"$f":"Naturskador!$F$35","v":0}]
["HE21",{"$f":"Naturskador!$G$35","v":0}]
["HF21",{"$f":"Naturskador!$H$35","v":0}]
["HG21",{"$f":"Naturskador!$I$35","v":0}]
["HH21",{"$f":"Naturskador!$J$35","v":0}]
["HI21",{"$f":"Naturskador!$K$35","v":0}]
["HJ21",{"$f":"Naturskador!$L$35","v":0}]
["HK21",{"$f":"Naturskador!$M$35","v":0}]
["HL21",{"$f":"Naturskador!$N$35","v":0}]
["HA22",{"$f":"Naturskador!$C$36","v":0}]
["HB22",{"$f":"Naturskador!$D$36","v":0}]
["HC22",{"$f":"Naturskador!$E$36","v":0}]
["HD22",{"$f":"Naturskador!$F$36","v":0}]
["HE22",{"$f":"Naturskador!$G$36","v":0}]
["HF22",{"$f":"Naturskador!$H$36","v":0}]
["HG22",{"$f":"Naturskador!$I$36","v":0}]
["HH22",{"$f":"Naturskador!$J$36","v":0}]
["HI22",{"$f":"Naturskador!$K$36","v":0}]
["HJ22",{"$f":"Naturskador!$L$36","v":0}]
["HK22",{"$f":"Naturskador!$M$36","v":0}]
["HL22",{"$f":"Naturskador!$N$36","v":0}]
["CA1",{"$f":"Trafik!$D$10","v":0}]
["CC1",{"$f":"Trafik!$F$10","v":0}]
["CE1",{"$f":"Trafik!$H$10","v":0}]
["CG1",{"$f":"Trafik!$J$10","v":0}]
["CI1",{"$f":"Trafik!$L$10","v":0}]
["CK1",{"$f":"Trafik!$N$10","v":0}]
["CA2",{"$f":"Trafik!$D$11","v":0}]
["CC2",{"$f":"Trafik!$F$11","v":0}]
["CE2",{"$f":"Trafik!$H$11","v":0}]
["CG2",{"$f":"Trafik!$J$11","v":0}]
["CI2",{"$f":"Trafik!$L$11","v":0}]
["CK2",{"$f":"Trafik!$N$11","v":0}]
["CA3",{"$f":"Trafik!$D$13","v":0}]
["CC3",{"$f":"Trafik!$F$13","v":0}]
["CE3",{"$f":"Trafik!$H$13","v":0}]
["CG3",{"$f":"Trafik!$J$13","v":0}]
["CI3",{"$f":"Trafik!$L$13","v":0}]
["CK3",{"$f":"Trafik!$N$13","v":0}]
["CA4",{"$f":"Trafik!$D$19","v":0}]
["CB4",{"$f":"Trafik!$E$19","v":0}]
["CC4",{"$f":"Trafik!$F$19","v":0}]
["CD4",{"$f":"Trafik!$G$19","v":0}]
["CE4",{"$f":"Trafik!$H$19","v":0}]
["CF4",{"$f":"Trafik!$I$19","v":0}]
["CG4",{"$f":"Trafik!$J$19","v":0}]
["CH4",{"$f":"Trafik!$K$19","v":0}]
["CI4",{"$f":"Trafik!$L$19","v":0}]
["CJ4",{"$f":"Trafik!$M$19","v":0}]
["CK4",{"$f":"Trafik!$N$19","v":0}]
["CL4",{"$f":"Trafik!$O$19","v":0}]
["CA5",{"$f":"Trafik!$D$21","v":0}]
["CA6",{"$f":"Trafik!$D$22","v":0}]
["CC6",{"$f":"Trafik!$F$22","v":0}]
["CE6",{"$f":"Trafik!$H$22","v":0}]
["CG6",{"$f":"Trafik!$J$22","v":0}]
["CI6",{"$f":"Trafik!$L$22","v":0}]
["CA7",{"$f":"Trafik!$D$23","v":0}]
["CC7",{"$f":"Trafik!$F$23","v":0}]
["CE7",{"$f":"Trafik!$H$23","v":0}]
["CG7",{"$f":"Trafik!$J$23","v":0}]
["CI7",{"$f":"Trafik!$L$23","v":0}]
["CK7",{"$f":"Trafik!$N$23","v":0}]
["CA8",{"$f":"Trafik!$D$24","v":0}]
["CC8",{"$f":"Trafik!$F$24","v":0}]
["CE8",{"$f":"Trafik!$H$24","v":0}]
["CG8",{"$f":"Trafik!$J$24","v":0}]
["CI8",{"$f":"Trafik!$L$24","v":0}]
["CK8",{"$f":"Trafik!$N$24","v":0}]
["CA9",{"$f":"Trafik!$D$31","v":0}]
["CC9",{"$f":"Trafik!$F$31","v":0}]
["CE9",{"$f":"Trafik!$H$31","v":0}]
["CG9",{"$f":"Trafik!$J$31","v":0}]
["CI9",{"$f":"Trafik!$L$31","v":0}]
["CA10",{"$f":"Trafik!$D$32","v":0}]
["CC10",{"$f":"Trafik!$F$32","v":0}]
["CE10",{"$f":"Trafik!$H$32","v":0}]
["CG10",{"$f":"Trafik!$J$32","v":0}]
["CI10",{"$f":"Trafik!$L$32","v":0}]
["CA11",{"$f":"Trafik!$D$34","v":0}]
["CC11",{"$f":"Trafik!$F$34","v":0}]
["CE11",{"$f":"Trafik!$H$34","v":0}]
["CG11",{"$f":"Trafik!$J$34","v":0}]
["CI11",{"$f":"Trafik!$L$34","v":0}]
["CA12",{"$f":"Trafik!$D$40","v":0}]
["CB12",{"$f":"Trafik!$E$40","v":0}]
["CC12",{"$f":"Trafik!$F$40","v":0}]
["CD12",{"$f":"Trafik!$G$40","v":0}]
["CE12",{"$f":"Trafik!$H$40","v":0}]
["CF12",{"$f":"Trafik!$I$40","v":0}]
["CG12",{"$f":"Trafik!$J$40","v":0}]
["CH12",{"$f":"Trafik!$K$40","v":0}]
["CI12",{"$f":"Trafik!$L$40","v":0}]
["CJ12",{"$f":"Trafik!$M$40","v":0}]
["CA15",{"$f":"Trafik!$D$44","v":0}]
["CC15",{"$f":"Trafik!$F$44","v":0}]
["CE15",{"$f":"Trafik!$H$44","v":0}]
["CG15",{"$f":"Trafik!$J$44","v":0}]
["CI15",{"$f":"Trafik!$L$44","v":0}]
["CA16",{"$f":"Trafik!$D$45","v":0}]
["CC16",{"$f":"Trafik!$F$45","v":0}]
["CE16",{"$f":"Trafik!$H$45","v":0}]
["CG16",{"$f":"Trafik!$J$45","v":0}]
["CI16",{"$f":"Trafik!$L$45","v":0}]
["CC17",{"$f":"Trafik!$F$53","v":0}]
["CD17",{"$f":"Trafik!$H$53","v":0},"F"]
["CC18",{"$f":"Trafik!$F$54","v":0}]
["CD18",{"$f":"Trafik!$H$54","v":0},"F"]
["CA19",{"$f":"Trafik!$D$56","v":0}]
["CC19",{"$f":"Trafik!$F$56","v":0}]
["CD19",{"$f":"Trafik!$H$56","v":0},"F"]
["CA20",{"$f":"Trafik!$D$62","v":0}]
["CB20",{"$f":"Trafik!$E$62","v":0}]
["CC20",{"$f":"Trafik!$F$62","v":0}]
["CD20",{"$f":"Trafik!$G$62","v":0}]
["CE20",{"$f":"Trafik!$H$62","v":0},"F"]
["CF20",{"$f":"Trafik!$I$62","v":0},"F"]
["CG20",{"$f":"Trafik!$J$62","v":0}]
["CH20",{"$f":"Trafik!$K$62","v":0}]
["CE21",{"$f":"Trafik!$H$64","v":0}]
["CE22",{"$f":"Trafik!$H$65","v":0}]
["CE23",{"$f":"Trafik!$H$66","v":0}]
["CE24",{"$f":"Trafik!$H$67","v":0}]
["DA1",{"$f":"Motor!$D$10","v":0}]
["DC1",{"$f":"Motor!$F$10","v":0}]
["DE1",{"$f":"Motor!$H$10","v":0}]
["DG1",{"$f":"Motor!$J$10","v":0}]
["DI1",{"$f":"Motor!$L$10","v":0}]
["DK1",{"$f":"Motor!$N$10","v":0}]
["DA2",{"$f":"Motor!$D$11","v":0}]
["DC2",{"$f":"Motor!$F$11","v":0}]
["DE2",{"$f":"Motor!$H$11","v":0}]
["DG2",{"$f":"Motor!$J$11","v":0}]
["DI2",{"$f":"Motor!$L$11","v":0}]
["DK2",{"$f":"Motor!$N$11","v":0}]
["DA3",{"$f":"Motor!$D$13","v":0}]
["DC3",{"$f":"Motor!$F$13","v":0}]
["DE3",{"$f":"Motor!$H$13","v":0}]
["DG3",{"$f":"Motor!$J$13","v":0}]
["DI3",{"$f":"Motor!$L$13","v":0}]
["DK3",{"$f":"Motor!$N$13","v":0}]
["DA4",{"$f":"Motor!$D$19","v":0}]
["DB4",{"$f":"Motor!$E$19","v":0}]
["DC4",{"$f":"Motor!$F$19","v":0}]
["DD4",{"$f":"Motor!$G$19","v":0}]
["DE4",{"$f":"Motor!$H$19","v":0}]
["DF4",{"$f":"Motor!$I$19","v":0}]
["DG4",{"$f":"Motor!$J$19","v":0}]
["DH4",{"$f":"Motor!$K$19","v":0}]
["DI4",{"$f":"Motor!$L$19","v":0}]
["DJ4",{"$f":"Motor!$M$19","v":0}]
["DK4",{"$f":"Motor!$N$19","v":0}]
["DL4",{"$f":"Motor!$O$19","v":0}]
["DA5",{"$f":"Motor!$D$22","v":0}]
["DB5",{"$f":"Motor!$E$22","v":0}]
["DA6",{"$f":"Motor!$D$23","v":0}]
["DB6",{"$f":"Motor!$E$23","v":0}]
["DA7",{"$f":"Motor!$D$24","v":0}]
["DB7",{"$f":"Motor!$E$24","v":0}]
["DC7",{"$f":"Motor!$F$24","v":0}]
["DD7",{"$f":"Motor!$G$24","v":0}]
["DE7",{"$f":"Motor!$H$24","v":0}]
["DF7",{"$f":"Motor!$I$24","v":0}]
["DG7",{"$f":"Motor!$J$24","v":0}]
["DH7",{"$f":"Motor!$K$24","v":0}]
["DI7",{"$f":"Motor!$L$24","v":0}]
["DJ7",{"$f":"Motor!$M$24","v":0}]
["DA8",{"$f":"Motor!$D$25","v":0}]
["DB8",{"$f":"Motor!$E$25","v":0}]
["DA9",{"$f":"Motor!$D$26","v":0}]
["DB9",{"$f":"Motor!$E$26","v":0}]
["DA10",{"$f":"Motor!$D$27","v":0}]
["DB10",{"$f":"Motor!$E$27","v":0}]
["DA11",{"$f":"Motor!$D$28","v":0}]
["DB11",{"$f":"Motor!$E$28","v":0}]
["DA12",{"$f":"Motor!$D$29","v":0}]
["DB12",{"$f":"Motor!$E$29","v":0}]
["DA13",{"$f":"Motor!$D$37","v":0}]
["DC13",{"$f":"Motor!$F$37","v":0}]
["DE13",{"$f":"Motor!$H$37","v":0}]
["DG13",{"$f":"Motor!$J$37","v":0}]
["DI13",{"$f":"Motor!$L$37","v":0}]
["DK13",{"$f":"Motor!$N$37","v":0}]
["DA14",{"$f":"Motor!$D$38","v":0}]
["DC14",{"$f":"Motor!$F$38","v":0}]
["DE14",{"$f":"Motor!$H$38","v":0}]
["DG14",{"$f":"Motor!$J$38","v":0}]
["DI14",{"$f":"Motor!$L$38","v":0}]
["DK14",{"$f":"Motor!$N$38","v":0}]
["DA15",{"$f":"Motor!$D$40","v":0}]
["DC15",{"$f":"Motor!$F$40","v":0}]
["DE15",{"$f":"Motor!$H$40","v":0}]
["DG15",{"$f":"Motor!$J$40","v":0}]
["DI15",{"$f":"Motor!$L$40","v":0}]
["DK15",{"$f":"Motor!$N$40","v":0}]
["DA16",{"$f":"Motor!$D$46","v":0}]
["DB16",{"$f":"Motor!$E$46","v":0}]
["DC16",{"$f":"Motor!$F$46","v":0}]
["DD16",{"$f":"Motor!$G$46","v":0}]
["DE16",{"$f":"Motor!$H$46","v":0}]
["DF16",{"$f":"Motor!$I$46","v":0}]
["DG16",{"$f":"Motor!$J$46","v":0}]
["DH16",{"$f":"Motor!$K$46","v":0}]
["DI16",{"$f":"Motor!$L$46","v":0}]
["DJ16",{"$f":"Motor!$M$46","v":0}]
["DK16",{"$f":"Motor!$N$46","v":0}]
["DL16",{"$f":"Motor!$O$46","v":0}]
["DA24",{"$f":"Motor!$D$64","v":0}]
["DE24",{"$f":"Motor!$H$64","v":0}]
["DG24",{"$f":"Motor!$J$64","v":0},"F"]
["DA25",{"$f":"Motor!$D$65","v":0}]
["DE25",{"$f":"Motor!$H$65","v":0}]
["DG25",{"$f":"Motor!$J$65","v":0},"F"]
["DA26",{"$f":"Motor!$D$67","v":0}]
["DC26",{"$f":"Motor!$F$67","v":0}]
["DE26",{"$f":"Motor!$H$67","v":0}]
["DG26",{"$f":"Motor!$J$67","v":0},"F"]
["DA27",{"$f":"Motor!$D$73","v":0}]
["DB27",{"$f":"Motor!$E$73","v":0}]
["DC27",{"$f":"Motor!$F$73","v":0}]
["DD27",{"$f":"Motor!$G$73","v":0}]
["DE27",{"$f":"Motor!$H$73","v":0}]
["DF27",{"$f":"Motor!$I$73","v":0}]
["DG27",{"$f":"Motor!$J$73","v":0},"F"]
["DH27",{"$f":"Motor!$K$73","v":0},"F"]
["DG28",{"$f":"Motor!$J$76","v":0}]
["DH28",{"$f":"Motor!$K$76","v":0}]
["DG29",{"$f":"Motor!$J$77","v":0}]
["DH29",{"$f":"Motor!$K$77","v":0}]
["DG30",{"$f":"Motor!$J$78","v":0}]
["DH30",{"$f":"Motor!$K$78","v":0}]
["DG31",{"$f":"Motor!$J$79","v":0}]
["DH31",{"$f":"Motor!$K$79","v":0}]
["DG32",{"$f":"Motor!$J$80","v":0}]
["DH32",{"$f":"Motor!$K$80","v":0}]
["DG33",{"$f":"Motor!$J$81","v":0}]
["DH33",{"$f":"Motor!$K$81","v":0}]
["DG34",{"$f":"Motor!$J$82","v":0}]
["DH34",{"$f":"Motor!$K$82","v":0}]
["DG35",{"$f":"Motor!$J$83","v":0}]
["DH35",{"$f":"Motor!$K$83","v":0}]
["Kommentar1",{"$f":"Kommentarer!B6","v":0}]
["Kommentar2",{"$f":"Kommentarer!B7","v":0}]
["Kommentar3",{"$f":"Kommentarer!B8","v":0}]
["Kommentar4",{"$f":"Kommentarer!B9","v":0}]
["FA1",{"$f":"SoO!$B$7","v":0},""]
["FB1",{"$f":"SoO!$C$7","v":0}]
["FC1",{"$f":"SoO!$D$7","v":0}]
["FD1",{"$f":"SoO!$E$7","v":0}]
["FE1",{"$f":"SoO!$F$7","v":0}]
["FF1",{"$f":"SoO!$G$7","v":0}]
["FA2",{"$f":"SoO!$B$8","v":0}]
["FB2",{"$f":"SoO!$C$8","v":0}]
["FC2",{"$f":"SoO!$D$8","v":0}]
["FD2",{"$f":"SoO!$E$8","v":0}]
["FE2",{"$f":"SoO!$F$8","v":0}]
["FF2",{"$f":"SoO!$G$8","v":0}]
["FA3",{"$f":"SoO!$B$9","v":0}]
["FB3",{"$f":"SoO!$C$9","v":0}]
["FC3",{"$f":"SoO!$D$9","v":0}]
["FD3",{"$f":"SoO!$E$9","v":0}]
["FE3",{"$f":"SoO!$F$9","v":0}]
["FF3",{"$f":"SoO!$G$9","v":0}]
["FA4",{"$f":"SoO!$B$10","v":0}]
["FB4",{"$f":"SoO!$C$10","v":0}]
["FC4",{"$f":"SoO!$D$10","v":0}]
["FD4",{"$f":"SoO!$E$10","v":0}]
["FE4",{"$f":"SoO!$F$10","v":0}]
["FF4",{"$f":"SoO!$G$10","v":0}]
["FA5",{"$f":"SoO!$B$11","v":0}]
["FB5",{"$f":"SoO!$C$11","v":0}]
["FC5",{"$f":"SoO!$D$11","v":0}]
["FD5",{"$f":"SoO!$E$11","v":0}]
["FE5",{"$f":"SoO!$F$11","v":0}]
["FF5",{"$f":"SoO!$G$11","v":0}]
["FA6",{"$f":"SoO!$B$12","v":0}]
["FB6",{"$f":"SoO!$C$12","v":0}]
["FC6",{"$f":"SoO!$D$12","v":0}]
["FD6",{"$f":"SoO!$E$12","v":0}]
["FE6",{"$f":"SoO!$F$12","v":0}]
["FF6",{"$f":"SoO!$G$12","v":0}]
["FA7",{"$f":"SoO!$B$13","v":0}]
["FB7",{"$f":"SoO!$C$13","v":0}]
["FC7",{"$f":"SoO!$D$13","v":0}]
["FD7",{"$f":"SoO!$E$13","v":0}]
["FE7",{"$f":"SoO!$F$13","v":0}]
["FF7",{"$f":"SoO!$G$13","v":0}]
["FA8",{"$f":"SoO!$B$14","v":0}]
["FB8",{"$f":"SoO!$C$14","v":0}]
["FC8",{"$f":"SoO!$D$14","v":0}]
["FD8",{"$f":"SoO!$E$14","v":0}]
["FE8",{"$f":"SoO!$F$14","v":0}]
["FF8",{"$f":"SoO!$G$14","v":0}]
["FA9",{"$f":"SoO!$B$15","v":0}]
["FB9",{"$f":"SoO!$C$15","v":0}]
["FC9",{"$f":"SoO!$D$15","v":0}]
["FD9",{"$f":"SoO!$E$15","v":0}]
["FE9",{"$f":"SoO!$F$15","v":0}]
["FF9",{"$f":"SoO!$G$15","v":0}]
["FA10",{"$f":"SoO!$B$16","v":0},"F"]
["FB10",{"$f":"SoO!$C$16","v":0},"F"]
["FC10",{"$f":"SoO!$D$16","v":0},"F"]
["FD10",{"$f":"SoO!$E$16","v":0},"F"]
["FE10",{"$f":"SoO!$F$16","v":0},"F"]
["FF10",{"$f":"SoO!$G$16","v":0},"F"]

{"sheet":"Bolag","index":9,"n_rows":336,"n_cols":3,"rows_kept":336,"cut":false,"hidden":true,"merged":[]}
["FI kortnamn","Orgnr","FI-kod"]
["Accept","516401-6577","22108"]
["ACE","516403-5601","27004"]
["ACE","502044-0136","27004"]
["AFA","502000-9659","21014"]
["AFA Liv","502000-9659","21014"]
["AFA Sjuk","502033-0642","21007"]
["AFA Trygg","516401-8615","22097"]
["AGA RE","516401-7674","22034"]
["AGRIA","516401-8003","22040"]
["Agria Intern","516406-0542","22137"]
["AIG","516408-1027","27001"]
["AIG Europe","516401-8060","27001"]
["Aktsam","516401-8193","22041"]
["Alandia","999999-9999","99001"]
["Alecta","502014-6865","21002"]
["Alecta KoUt","502014-6865","21902"]
["AlfaLaval","516406-0682","22147"]
["Almundsr","529501-9433","25001"]
["AMF Pension","502033-2259","21001"]
["AMF Pension ny trad försäkring","502033-2259","21952"]
["AMF Pension SAF-LO ny","502033-2259","21951"]
["Anticimex","502000-8958","22033"]
["Assa","516406-0740","22150"]
["Assskuld","556039-5070","27002"]
["Avanza Pension","516401-6775","21116"]
["BAS","554600-3921","23045"]
["Berg-Åre","592600-5041","25004"]
["Bliwa","502006-6329","21011"]
["Bliwa Sak","516401-6585","21037"]
["Bohus Sjö","558500-7601","25006"]
["Bohusassurans","553300-6150","23054"]
["BohuslStr","554600-3913","23044"]
["Bolstads","562500-5706","25007"]
["Borgsjö","589201-8929","25008"]
["BostadsGar","516401-6684","22112"]
["Brandkont.","502002-6281","22007"]
["Breareds","549201-9921","25009"]
["Britanni","516401-7997","27003"]
["Brummer Life","516406-0823","21120"]
["Brunskog","572000-4935","25011"]
["Cardif Liv","516406-0559","21050"]
["Cardif Sak","516406-0567","22139"]
["Codan","999999-9999","99006"]
["Dalsland Tvåstad","562500-5722","25114"]
["Danica Pension","516401-6643","21112"]
["Dial","516401-8300","22043"]
["Dina","516401-8029","22066"]
["Dina AlftaEdsbyn","586500-5531","23041"]
["Dina Göteborg","568400-5209","23055"]
["Dina JämtVnorrl","589600-6581","25002"]
["Dina Kattegatt","516401-7500","25019"]
["Dina KnallÄtrad","516401-7526","23059"]
["Dina Lidköping","569000-6852","23032"]
["Dina MellSkarab","567800-5819","23048"]
["Dina Mälard","516406-0476","25136"]
["Dina Nord","598800-2100","23031"]
["Dina Sydost","567200-4818","23047"]
["Dina SydöNorrl","586000-4539","23053"]
["Dina ViskadVarb","516401-7583","25117"]
["Dina VäHälsDala","586500-5135","23051"]
["Dina Väst","516401-7781","25052"]
["Dina Öland","532000-1372","23058"]
["Dina-gruppen","516401-8029","22991"]
["DKV-Hälsa","516402-6998","22994"]
["Donsö-Vrångö","557212-6604","25017"]
["E.N. Sak","516406-0625","22142"]
["EFEL Skade","516406-0666","22146"]
["Electrolux","516401-7666","22036"]
["Enslövs","549201-9939","25018"]
["Ericsson","516406-0534","22138"]
["Erika","516401-8581","22096"]
["ERV","502005-5447","22006"]
["EuroAccident","556551-4766","27104"]
["Euroben L&P","516401-8524","29032"]
["Falck","516401-8474","22089"]
["Fjäll","516406-0708","22148"]
["FL Gruppförs","516401-6569","21036"]
["FL Livförs","516401-8201","21025"]
["Folksam Fondförs","516401-8607","21109"]
["Folksam Liv","502006-1585","21006"]
["Folksam LO Fondförs","516401-6619","21111"]
["Folksam Sak","502006-1619","22001"]
["FSF Småkommun","516406-0617","22143"]
["Färila","587000-3356","25024"]
["GAR-BO","516401-6668","22111"]
["Gard Marine","516406-0633","22144"]
["Genworth Liv","516403-5551","29200"]
["Gjensidige","516401-6809","22118"]
["Gjensidige filial","516401-6809","29118"]
["Glava","572000-4943","25026"]
["Gotlands Kreatur","534000-6351","25028"]
["Gävlesan","585001-3730","25032"]
["Göta-Lejon","516401-8185","22044"]
["Hallands Fisk","516401-7559","25033"]
["Halmstad","549201-9947","25034"]
["Handelsbanken Liv","516401-8284","21105"]
["Hanebo","586500-5523","25035"]
["Hermes","516401-6635","22110"]
["Holmen","516406-0062","22121"]
["Holmia Liv","516401-6510","21032"]
["HSB","516401-8425","22084"]
["Husqvarna","516406-0393","22132"]
["Härnösand","588000-4121","25096"]
["Höga Kusten","588400-3624","25069"]
["Högs","587500-7949","25042"]
["ICA Försäkring","556966-2975","22161"]
["If Industri","516401-8102","99004"]
["If Liv","516406-0252","21045"]
["If Rese","516401-7849","22076"]
["If Skade","516401-8102","22003"]
["IKANO","516401-8227","22059"]
["IKANO Liv","516401-6783","21042"]
["Industria","516401-7930","22046"]
["Inlands","553300-6218","25045"]
["Inter H","999999-9999","99005"]
["Junsele","588800-4628","25046"]
["KAF Kollekt.","516406-0047","21043"]
["KalmarNy","532401-2466","25049"]
["Kalvsvik","529501-9458","25050"]
["KF","516401-8417","22048"]
["Knallebygden","564502-5981","25104"]
["Kommun Syd","516406-0294","22129"]
["Kommungaranti","516401-8359","22057"]
["KPA Livförs","502010-3502","21016"]
["KPA Pensionförs","516401-6544","21035"]
["Kungsbacka","516401-7625","25061"]
["Kyrkans Försäkring","556660-7965","22160"]
["Lagadalen","549201-9962","25038"]
["Lansen","516401-8656","22101"]
["Lerbäcks","575700-7611","25055"]
["LF  Fondliv","516401-8219","21104"]
["LF  Liv","516401-6627","21038"]
["LF Bergslag","578000-9956","23043"]
["LF Blekinge","536201-0505","23011"]
["LF Dalarna","583201-4905","23024"]
["LF Gotland","534000-6369","23009"]
["LF gruppen","502010-9681","22990"]
["LF GruppLiv AB","516401-6692","21039"]
["LF Gävleborg","585001-3086","23046"]
["LF Göinge","537000-2320","23012"]
["LF Göteborg","558500-8039","23018"]
["LF Halland","549202-0028","23017"]
["LF Inter","516406-0609","22141"]
["LF Jämtland","593200-1828","23028"]
["LF Jönköping","526000-5854","23005"]
["LF Kalmar","532400-3549","23007"]
["LF Kristians","538200-8521","23014"]
["LF Kronoberg","529501-7189","23006"]
["LF Liv Gamla Trad","516401-6627","29901"]
["LF Liv Nya Trad","516401-6627","29902"]
["LF Miljö","516401-7922","22049"]
["LF Norrbott","597000-3884","23030"]
["LF Sak","502010-9681","22024"]
["LF Skaraborg","566000-6866","23020"]
["LF Skåne","543001-0685","23016"]
["LF Stockholm","502002-6265","23001"]
["LF Söderman","519000-6519","23003"]
["LF Uppsala","517600-9529","23002"]
["LF Värmland","573201-8329","23056"]
["LF Västerbo","594001-3161","23029"]
["LF Västerno","588000-3842","23027"]
["LF Älvsborg","562500-4337","23019"]
["LF ÖstgötaB","522001-1224","23004"]
["Linneryd","529501-9474","25056"]
["LKAB","516406-0187","22124"]
["LMG","516406-0831","22152"]
["LRF Skade","516401-8383","22052"]
["Lysviks","574000-3867","25059"]
["Läkarförsäkr","502020-1439","21900"]
["Läkarförsäkr","502019-6365","21013"]
["Läkemedel","516406-0401","22133"]
["LÖF","516401-8557","22094"]
["Maiden","516406-0468","21049"]
["Main pro","999999-9999","99003"]
["Markel","999999-9999","99002"]
["Medicov","516406-0435","22134"]
["Mellanljusna","587000-3349","25047"]
["Mittförsäkr.","589201-8937","25044"]
["Moderna","516406-0070","29122"]
["Moderna, filial","516403-8662","27105"]
["Moheda","529501-9482","25064"]
["Movestic","516401-6718","21040"]
["Mutual","516401-7971","27010"]
["NCC","516401-8151","22054"]
["Nederlan","556452-6142","27011"]
["Njord","516401-7880","22053"]
["Nolaskogen","589600-6573","25065"]
["Nordea Livförsäkring","516401-8508","21029"]
["Nordea LivSF","516401-8508","29029"]
["Nordea Utland","516401-8508","30029"]
["Nordeuropa","556768-7412","99010"]
["NordGuara","516406-0112","22123"]
["Nordisk Marin","556862-8183","22155"]
["Nordmark","574400-4812","23049"]
["Nordnet Pension","516406-0286","21046"]
["Nottebäc","529501-9490","25071"]
["Nätra","589600-6599","25073"]
["Ockelbo","585500-6408","25074"]
["Old Mutual Int.","502017-999","99012"]
["Orusts","558500-7627","23050"]
["Oskarsha","532800-6738","25076"]
["Oxie-Skytts","746001-0817","25077"]
["Peab","556511-5408","22154"]
["Pinnacle","556591-7902","21903"]
["PK ABB","878000-0124","70807"]
["PK APK","802004-8008","72585"]
["PK FFO","816400-4122","72607"]
["PK FPK","802005-6142","72540"]
["PK KP","802005-5540","72466"]
["PK KPK","802005-5631","72547"]
["PK Kyrkan","816400-4155","72610"]
["PK Kåpan","816400-4114","72606"]
["PK Optimalia","816400-4130","72608"]
["PK Posten","816400-4163","72611"]
["PK PP Pens.","802005-5573","72397"]
["PK Promethus","816400-4148","72609"]
["PK PSA","802005-5730","72399"]
["PK PSF","802005-5748","72400"]
["PK SHB","802005-5565","70201"]
["PK SPK","802005-5581","72516"]
["PK Volvo","816400-4056","72600"]
["Portea","516406-0302","22128"]
["Posten","516401-8649","22100"]
["PP Pension FF","802005-5573","07239"]
["PP Pension Fond","516406-0237","21117"]
["PPM","202100-5034","91700"]
["Prakt Tj","516406-0450","21118"]
["Preem","516406-0930","22156"]
["PRI","502014-6279","22026"]
["Principle","556848-7234","22151"]
["Prosec","516401-7914","22055"]
["Ramseleb","588800-4602","25078"]
["Reliance",null,"27103"]
["Royal Skandia","502017-3083","29062"]
["SABO","516401-8441","22085"]
["Saco Folksam","516401-6726","22114"]
["SalusAn Gr","516401-8342","21027"]
["SalusAnsvar ","516401-8573","21031"]
["Sampo Indust",null,"27102"]
["Sandvik","516401-6742","22115"]
["Sappisure","516406-0583","22140"]
["SCA","516401-8540","22093"]
["SE Captive","516401-8532","22092"]
["SEB Life","516401-6528","29033"]
["SEB Pension","516401-8243","21103"]
["SEB TL Gla","516401-6536","21034"]
["SHB L&P","502067-0732","29030"]
["SHB L&P","502067-0732","29030"]
["SHB Life","516403-0081","29105"]
["SHB Skade","516401-6767","22116"]
["Sirius Inter","516401-8136","22061"]
["SK IndSkador","502017-3083","22962"]
["Skandia Fondf.","502017-3083","22062"]
["Skandia Livf.","502019-6365","21003"]
["Skandia Livf.","516406-0948","22158"]
["Skanska","516401-8664","22102"]
["Skatelöv","529501-9508","25083"]
["SKF","516401-7658","22035"]
["Skåne ladugård","516401-7682","25099"]
["Snöstorp","549202-0002","25088"]
["Solid","516401-8482","22090"]
["Solidar","556740-1590","21053"]
["Sparbankernas","516406-0732","22149"]
["Sparia Group","516406-0963","22159"]
["SPP Liv","516401-8524","21030"]
["SPP Pension","516401-8599","21108"]
["St Erik","516401-7948","22067"]
["St Erik Liv","516406-0427","21048"]
["Stavnäs","572000-4927","25090"]
["Sthlm Re","502020-7063","22021"]
["Stockholms Fisk","502006-0264","25092"]
["Stockholmsreg","516406-0641","22145"]
["Stora Enso","516401-8045","22069"]
["Storebrand","516402-6998","21801"]
["Storebrand Liv","516401-7840","29031"]
["Storebrand sv filial","516403-6997","99009"]
["Strömsun","592000-4461","25093"]
["Stångenäs","554600-4994","23052"]
["Stöde","589201-8713","25094"]
["Suecia","516401-7872","22023"]
["Sv Handel Fond","516406-0310","21047"]
["Sv. Kommun","516406-0039","22119"]
["SveaSkog","516401-8466","22088"]
["Swedbank Försäkring","516401-8292","21101"]
["Swedish Club","557206-5265","22030"]
["Sveland Djur","545000-7165","22071"]
["SveLand Sak","516406-0229","22127"]
["Svenska Sjö","556221-0343","22901"]
["SvenskaBrand","516401-8318","22070"]
["Svevia","516406-0880","22153"]
["Sydkraft","516401-6551","22107"]
["Särestad","569000-7090","25097"]
["Södermanlands Fisk","516401-7823","25098"]
["TeliaSonera","516401-8490","22091"]
["TFF","802005-9286","22992"]
["TH (Folksam)","516401-7799","22975"]
["Tibro","566601-0599","25100"]
["Timrå","589201-8705","25041"]
["Tolg","529501-9524","25103"]
["Torups","549202-0010","25107"]
["Tre Kronor","516406-0369","22130"]
["Trygg-Hansa","516401-7799","22072"]
["Tunhems","563000-7028","25109"]
["Twincap","516406-0526","22136"]
["Twincap","516406-0526","22136"]
["Töreboda","566000-6858","25111"]
["Umeå","594001-3187","25112"]
["Unionen","516401-6791","22117"]
["Uppvidinge","529501-9573","25130"]
["Utl.bol. övr",null,"27100"]
["Vabis","516401-7856","22073"]
["Varbergs","516401-7567","25115"]
["Vardia","556809-0491","29201"]
["WASA Lita","516401-8698","22993"]
["WASA Sak AB","516401-8698","22105"]
["Vattenfall","516401-8391","22074"]
["VestaSkade","516403-8662","99007"]
["VFF Fond","516406-0518","21119"]
["Visenta","516401-8680","22104"]
["Visingsö","526002-0275","25116"]
["Volvo Car","556877-5778","22162"]
["VolvoGro","516401-8037","22077"]
["Väckelså","529501-9540","25119"]
["Värö","516401-7591","25121"]
["Västernä","575002-1023","25122"]
["XL Insurance","516402-5123","99011"]
["Zurich","502027-0160","27015"]
["Zürich IIL","516403-8266","29015"]
["Åkerbo","578500-7864","23057"]
["Ålems","532800-6720","25125"]
["ÅterförsSthlm","502020-7063","22080"]
["Änke- och Pupillkassan","502000-5202","21010"]
["Öckerö Båt","557212-2348","25133"]
["Österfärnebo Brand","585500-6903","25134"]
["Öst-Gränna","516401-8565","23060"]