{"text_format":"1","workbook":"xlsx","n_sheets":4,"sheets":["Instruktion","Totalavkastning","System","Bolag"],"not_rendered":{"charts":0,"images":9,"macros":1,"external_links":0,"defined_names":7,"comments":0,"pivot_tables":0},"unopened":[],"bounds":{"document_bytes":16777216,"sheet_cells":100000,"rows_first":2000,"rows_last":500,"rows_between":2000,"halvings":0,"cell_chars":16384,"cell_head_chars":4096},"cells_cut":0,"cells_raw":0,"read":"whole","date_system":"1900"}

{"sheet":"Instruktion","index":0,"n_rows":10,"n_cols":4,"rows_kept":10,"cut":false,"hidden":false,"merged":[[9,1,9,3],[2,1,2,4],[4,1,4,2],[3,1,3,2],[8,1,8,3]]}
["Inrapportering Totalavkastning"]
[]
["Bolagsnamn:",""]
["Institutnummer:",{"$f":"IF(B3<>\"\",VLOOKUP(B3,BolagTabell,3,FALSE),\"\")","v":""},null,"fem siffror (11111)"]
["Organisationsnummer:",{"$f":"IF(B3<>\"\",VLOOKUP(B3,BolagTabell,2,FALSE),\"\")","v":""},null,"elva tecken (111111-1111)"]
[]
["Period (år och kvartal):",null,"(ÅÅÅÅK, t.ex. 20051)"]
[]
["Handläggare:",""]
["Telefon:",""]

{"sheet":"Totalavkastning","index":1,"n_rows":16,"n_cols":9,"rows_kept":16,"cut":false,"hidden":false,"merged":[[3,2,3,4],[3,5,3,8]]}
[{"$f":"\"Bolag: \" & Instruktion!B3 & \"       Period: \" & Period","v":"Bolag:        Period: "}]
["Totalavkastning"]
[{"$f":"IF(ISBLANK(Period),,LEFT(Period,4))","v":0}]
[null,null,{"$f":"\"Avser marknadsvärden och totalavkastning hittills under innevarande år \" & PeriodY","v":"Avser marknadsvärden och totalavkastning hittills under innevarande år 0"},null,null,"Exponering (%)"]
[null,"Portföljgrupp",{"$f":"\"Ingående marknadsvärde (MSEK), per \"&IF(PeriodY>0,PeriodY-1,PeriodY)&\"-12-31\"","v":"Ingående marknadsvärde (MSEK), per 0-12-31"},"Utgående marknadsvärde (MSEK)","Total-avkastning (%)","Ränte-bärande","Aktier","Fastigheter","Övrigt"]
["Summa tillgångar",null,null,null,null,null,null,null,{"$f":"IF(TagSwitch=1,\"SumG\",IF(SUM(F6:H6)>0,100-SUM(F6:H6),))","v":0}]
[null,null,null,null,null,null,null,null,{"$f":"IF(TagSwitch=1,\"P1G\",IF(SUM(F7:H7)>0,100-SUM(F7:H7),))","v":0}]
[null,null,null,null,null,null,null,null,{"$f":"IF(TagSwitch=1,\"P2G\",IF(SUM(F8:H8)>0,100-SUM(F8:H8),))","v":0}]
[null,null,null,null,null,null,null,null,{"$f":"IF(TagSwitch=1,\"P3G\",IF(SUM(F9:H9)>0,100-SUM(F9:H9),))","v":0}]
[null,null,null,null,null,null,null,null,{"$f":"IF(TagSwitch=1,\"P4G\",IF(SUM(F10:H10)>0,100-SUM(F10:H10),))","v":0}]
[null,null,null,null,null,null,null,null,{"$f":"IF(TagSwitch=1,\"P5G\",IF(SUM(F11:H11)>0,100-SUM(F11:H11),))","v":0}]
[null,null,null,null,null,null,null,null,{"$f":"IF(TagSwitch=1,\"P6G\",IF(SUM(F12:H12)>0,100-SUM(F12:H12),))","v":0}]
[null,null,null,null,null,null,null,null,{"$f":"IF(TagSwitch=1,\"P7G\",IF(SUM(F13:H13)>0,100-SUM(F13:H13),))","v":0}]
[null,null,null,null,null,null,null,null,{"$f":"IF(TagSwitch=1,\"P8G\",IF(SUM(F14:H14)>0,100-SUM(F14:H14),))","v":0}]
[null,null,null,null,null,null,null,null,{"$f":"IF(TagSwitch=1,\"P9G\",IF(SUM(F15:H15)>0,100-SUM(F15:H15),))","v":0}]
[null,null,null,null,null,null,null,null,{"$f":"IF(TagSwitch=1,\"P10G\",IF(SUM(F16:H16)>0,100-SUM(F16:H16),))","v":0}]

{"sheet":"System","index":2,"n_rows":94,"n_cols":11,"rows_kept":94,"cut":false,"hidden":true,"merged":[]}
["Rapportnamn","TOT"]
["Bolagsnamn",{"$f":"Instruktion!B3","v":""}]
["Institutnummer",{"$f":"Instruktion!B4","v":""},"F",null,"Vid ny rapport:"]
["Organisationsnummer",{"$f":"Instruktion!B5","v":""},"F",null,"1. Utgå från befintlig inrapporteringsblankett.",null,null,null,null,null,"Markera alla celler och välj Data - Verifiera"]
["Period",{"$f":"Instruktion!B7","v":0},null,null,"2. Ta bort gamla och kopiera över ny rapportflikar.",null,null,null,null,null,"- Heltal mellan -1000000000..1000000000"]
["Handläggare",{"$f":"Instruktion!B9","v":""},null,null,"3. Gå igenom texterna på Instruktionsfliken.",null,null,null,null,null,"- Felmeddelande 'Endast heltal är tillåtna'"]
["Telefon",{"$f":"Instruktion!B10","v":""},null,null,"4. Definiera konstanter i modulen ModulDefs."]
["SumA",{"$f":"Totalavkastning!$C$6","v":0},"",null,"9. Skydda arbetsbladen och göm systemfliken."]
["SumB",{"$f":"Totalavkastning!$D$6","v":0}]
["SumC",{"$f":"Totalavkastning!$E$6","v":0},null,null,"Funktioner vid ny rapport:"]
["SumD",{"$f":"Totalavkastning!$F$6","v":0}]
["SumE",{"$f":"Totalavkastning!$G$6","v":0}]
["SumF",{"$f":"Totalavkastning!$H$6","v":0}]
["SumG",{"$f":"Totalavkastning!$I$6","v":0},"F"]
["PRubrik1",{"$f":"Totalavkastning!$B$7","v":0}]
["P1A",{"$f":"Totalavkastning!$C$7","v":0},null,null,"TagSwitch:",0]
["P1B",{"$f":"Totalavkastning!$D$7","v":0}]
["P1C",{"$f":"Totalavkastning!$E$7","v":0}]
["P1D",{"$f":"Totalavkastning!$F$7","v":0}]
["P1E",{"$f":"Totalavkastning!$G$7","v":0}]
["P1F",{"$f":"Totalavkastning!$H$7","v":0}]
["P1G",{"$f":"Totalavkastning!$I$7","v":0},"F"]
["PRubrik2",{"$f":"Totalavkastning!$B$8","v":0}]
["P2A",{"$f":"Totalavkastning!$C$8","v":0}]
["P2B",{"$f":"Totalavkastning!$D$8","v":0}]
["P2C",{"$f":"Totalavkastning!$E$8","v":0}]
["P2D",{"$f":"Totalavkastning!$F$8","v":0}]
["P2E",{"$f":"Totalavkastning!$G$8","v":0}]
["P2F",{"$f":"Totalavkastning!$H$8","v":0}]
["P2G",{"$f":"Totalavkastning!$I$8","v":0},"F"]
["PRubrik3",{"$f":"Totalavkastning!$B$9","v":0}]
["P3A",{"$f":"Totalavkastning!$C$9","v":0}]
["P3B",{"$f":"Totalavkastning!$D$9","v":0}]
["P3C",{"$f":"Totalavkastning!$E$9","v":0}]
["P3D",{"$f":"Totalavkastning!$F$9","v":0}]
["P3E",{"$f":"Totalavkastning!$G$9","v":0}]
["P3F",{"$f":"Totalavkastning!$H$9","v":0}]
["P3G",{"$f":"Totalavkastning!$I$9","v":0},"F"]
["PRubrik4",{"$f":"Totalavkastning!$B$10","v":0}]
["P4A",{"$f":"Totalavkastning!$C$10","v":0}]
["P4B",{"$f":"Totalavkastning!$D$10","v":0}]
["P4C",{"$f":"Totalavkastning!$E$10","v":0}]
["P4D",{"$f":"Totalavkastning!$F$10","v":0}]
["P4E",{"$f":"Totalavkastning!$G$10","v":0}]
["P4F",{"$f":"Totalavkastning!$H$10","v":0}]
["P4G",{"$f":"Totalavkastning!$I$10","v":0},"F"]
["PRubrik5",{"$f":"Totalavkastning!$B$11","v":0}]
["P5A",{"$f":"Totalavkastning!$C$11","v":0}]
["P5B",{"$f":"Totalavkastning!$D$11","v":0}]
["P5C",{"$f":"Totalavkastning!$E$11","v":0}]
["P5D",{"$f":"Totalavkastning!$F$11","v":0}]
["P5E",{"$f":"Totalavkastning!$G$11","v":0}]
["P5F",{"$f":"Totalavkastning!$H$11","v":0}]
["P5G",{"$f":"Totalavkastning!$I$11","v":0},"F"]
["PRubrik6",{"$f":"Totalavkastning!$B$12","v":0}]
["P6A",{"$f":"Totalavkastning!$C$12","v":0}]
["P6B",{"$f":"Totalavkastning!$D$12","v":0}]
["P6C",{"$f":"Totalavkastning!$E$12","v":0}]
["P6D",{"$f":"Totalavkastning!$F$12","v":0}]
["P6E",{"$f":"Totalavkastning!$G$12","v":0}]
["P6F",{"$f":"Totalavkastning!$H$12","v":0}]
["P6G",{"$f":"Totalavkastning!$I$12","v":0},"F"]
["PRubrik7",{"$f":"Totalavkastning!$B$13","v":0}]
["P7A",{"$f":"Totalavkastning!$C$13","v":0}]
["P7B",{"$f":"Totalavkastning!$D$13","v":0}]
["P7C",{"$f":"Totalavkastning!$E$13","v":0}]
["P7D",{"$f":"Totalavkastning!$F$13","v":0}]
["P7E",{"$f":"Totalavkastning!$G$13","v":0}]
["P7F",{"$f":"Totalavkastning!$H$13","v":0}]
["P7G",{"$f":"Totalavkastning!$I$13","v":0},"F"]
["PRubrik8",{"$f":"Totalavkastning!$B$14","v":0}]
["P8A",{"$f":"Totalavkastning!$C$14","v":0}]
["P8B",{"$f":"Totalavkastning!$D$14","v":0}]
["P8C",{"$f":"Totalavkastning!$E$14","v":0}]
["P8D",{"$f":"Totalavkastning!$F$14","v":0}]
["P8E",{"$f":"Totalavkastning!$G$14","v":0}]
["P8F",{"$f":"Totalavkastning!$H$14","v":0}]
["P8G",{"$f":"Totalavkastning!$I$14","v":0},"F"]
["PRubrik9",{"$f":"Totalavkastning!$B$15","v":0}]
["P9A",{"$f":"Totalavkastning!$C$15","v":0}]
["P9B",{"$f":"Totalavkastning!$D$15","v":0}]
["P9C",{"$f":"Totalavkastning!$E$15","v":0}]
["P9D",{"$f":"Totalavkastning!$F$15","v":0}]
["P9E",{"$f":"Totalavkastning!$G$15","v":0}]
["P9F",{"$f":"Totalavkastning!$H$15","v":0}]
["P9G",{"$f":"Totalavkastning!$I$15","v":0},"F"]
["PRubrik10",{"$f":"Totalavkastning!$B$16","v":0}]
["P10A",{"$f":"Totalavkastning!$C$16","v":0}]
["P10B",{"$f":"Totalavkastning!$D$16","v":0}]
["P10C",{"$f":"Totalavkastning!$E$16","v":0}]
["P10D",{"$f":"Totalavkastning!$F$16","v":0}]
["P10E",{"$f":"Totalavkastning!$G$16","v":0}]
["P10F",{"$f":"Totalavkastning!$H$16","v":0}]
["P10G",{"$f":"Totalavkastning!$I$16","v":0},"F"]

{"sheet":"Bolag","index":3,"n_rows":336,"n_cols":3,"rows_kept":336,"cut":false,"hidden":true,"merged":[]}
["FI kortnamn","Orgnr","FI-kod"]
["Accept","516401-6577","22108"]
["ACE","516403-5601","27004"]
["ACE","502044-0136","27004"]
["AFA","502000-9659","21014"]
["AFA Liv","502000-9659","21014"]
["AFA Sjuk","502033-0642","21007"]
["AFA Trygg","516401-8615","22097"]
["AGA RE","516401-7674","22034"]
["AGRIA","516401-8003","22040"]
["Agria Intern","516406-0542","22137"]
["AIG","516408-1027","27001"]
["AIG Europe","516401-8060","27001"]
["Aktsam","516401-8193","22041"]
["Alandia","999999-9999","99001"]
["Alecta","502014-6865","21002"]
["Alecta KoUt","502014-6865","21902"]
["AlfaLaval","516406-0682","22147"]
["Almundsr","529501-9433","25001"]
["AMF Pension","502033-2259","21001"]
["AMF Pension ny trad försäkring","502033-2259","21952"]
["AMF Pension SAF-LO ny","502033-2259","21951"]
["Anticimex","502000-8958","22033"]
["Assa","516406-0740","22150"]
["Assskuld","556039-5070","27002"]
["Avanza Pension","516401-6775","21116"]
["BAS","554600-3921","23045"]
["Berg-Åre","592600-5041","25004"]
["Bliwa","502006-6329","21011"]
["Bliwa Sak","516401-6585","21037"]
["Bohus Sjö","558500-7601","25006"]
["Bohusassurans","553300-6150","23054"]
["BohuslStr","554600-3913","23044"]
["Bolstads","562500-5706","25007"]
["Borgsjö","589201-8929","25008"]
["BostadsGar","516401-6684","22112"]
["Brandkont.","502002-6281","22007"]
["Breareds","549201-9921","25009"]
["Britanni","516401-7997","27003"]
["Brummer Life","516406-0823","21120"]
["Brunskog","572000-4935","25011"]
["Cardif Liv","516406-0559","21050"]
["Cardif Sak","516406-0567","22139"]
["Codan","999999-9999","99006"]
["Dalsland Tvåstad","562500-5722","25114"]
["Danica Pension","516401-6643","21112"]
["Dial","516401-8300","22043"]
["Dina","516401-8029","22066"]
["Dina AlftaEdsbyn","586500-5531","23041"]
["Dina Göteborg","568400-5209","23055"]
["Dina JämtVnorrl","589600-6581","25002"]
["Dina Kattegatt","516401-7500","25019"]
["Dina KnallÄtrad","516401-7526","23059"]
["Dina Lidköping","569000-6852","23032"]
["Dina MellSkarab","567800-5819","23048"]
["Dina Mälard","516406-0476","25136"]
["Dina Nord","598800-2100","23031"]
["Dina Sydost","567200-4818","23047"]
["Dina SydöNorrl","586000-4539","23053"]
["Dina ViskadVarb","516401-7583","25117"]
["Dina VäHälsDala","586500-5135","23051"]
["Dina Väst","516401-7781","25052"]
["Dina Öland","532000-1372","23058"]
["Dina-gruppen","516401-8029","22991"]
["DKV-Hälsa","516402-6998","22994"]
["Donsö-Vrångö","557212-6604","25017"]
["E.N. Sak","516406-0625","22142"]
["EFEL Skade","516406-0666","22146"]
["Electrolux","516401-7666","22036"]
["Enslövs","549201-9939","25018"]
["Ericsson","516406-0534","22138"]
["Erika","516401-8581","22096"]
["ERV","502005-5447","22006"]
["EuroAccident","556551-4766","27104"]
["Euroben L&P","516401-8524","29032"]
["Falck","516401-8474","22089"]
["Fjäll","516406-0708","22148"]
["FL Gruppförs","516401-6569","21036"]
["FL Livförs","516401-8201","21025"]
["Folksam Fondförs","516401-8607","21109"]
["Folksam Liv","502006-1585","21006"]
["Folksam LO Fondförs","516401-6619","21111"]
["Folksam Sak","502006-1619","22001"]
["FSF Småkommun","516406-0617","22143"]
["Färila","587000-3356","25024"]
["GAR-BO","516401-6668","22111"]
["Gard Marine","516406-0633","22144"]
["Genworth Liv","516403-5551","29200"]
["Gjensidige","516401-6809","22118"]
["Gjensidige filial","516401-6809","29118"]
["Glava","572000-4943","25026"]
["Gotlands Kreatur","534000-6351","25028"]
["Gävlesan","585001-3730","25032"]
["Göta-Lejon","516401-8185","22044"]
["Hallands Fisk","516401-7559","25033"]
["Halmstad","549201-9947","25034"]
["Handelsbanken Liv","516401-8284","21105"]
["Hanebo","586500-5523","25035"]
["Hermes","516401-6635","22110"]
["Holmen","516406-0062","22121"]
["Holmia Liv","516401-6510","21032"]
["HSB","516401-8425","22084"]
["Husqvarna","516406-0393","22132"]
["Härnösand","588000-4121","25096"]
["Höga Kusten","588400-3624","25069"]
["Högs","587500-7949","25042"]
["ICA Försäkring","556966-2975","22161"]
["If Industri","516401-8102","99004"]
["If Liv","516406-0252","21045"]
["If Rese","516401-7849","22076"]
["If Skade","516401-8102","22003"]
["IKANO","516401-8227","22059"]
["IKANO Liv","516401-6783","21042"]
["Industria","516401-7930","22046"]
["Inlands","553300-6218","25045"]
["Inter H","999999-9999","99005"]
["Junsele","588800-4628","25046"]
["KAF Kollekt.","516406-0047","21043"]
["KalmarNy","532401-2466","25049"]
["Kalvsvik","529501-9458","25050"]
["KF","516401-8417","22048"]
["Knallebygden","564502-5981","25104"]
["Kommun Syd","516406-0294","22129"]
["Kommungaranti","516401-8359","22057"]
["KPA Livförs","502010-3502","21016"]
["KPA Pensionförs","516401-6544","21035"]
["Kungsbacka","516401-7625","25061"]
["Kyrkans Försäkring","556660-7965","22160"]
["Lagadalen","549201-9962","25038"]
["Lansen","516401-8656","22101"]
["Lerbäcks","575700-7611","25055"]
["LF  Fondliv","516401-8219","21104"]
["LF  Liv","516401-6627","21038"]
["LF Bergslag","578000-9956","23043"]
["LF Blekinge","536201-0505","23011"]
["LF Dalarna","583201-4905","23024"]
["LF Gotland","534000-6369","23009"]
["LF gruppen","502010-9681","22990"]
["LF GruppLiv AB","516401-6692","21039"]
["LF Gävleborg","585001-3086","23046"]
["LF Göinge","537000-2320","23012"]
["LF Göteborg","558500-8039","23018"]
["LF Halland","549202-0028","23017"]
["LF Inter","516406-0609","22141"]
["LF Jämtland","593200-1828","23028"]
["LF Jönköping","526000-5854","23005"]
["LF Kalmar","532400-3549","23007"]
["LF Kristians","538200-8521","23014"]
["LF Kronoberg","529501-7189","23006"]
["LF Liv Gamla Trad","516401-6627","29901"]
["LF Liv Nya Trad","516401-6627","29902"]
["LF Miljö","516401-7922","22049"]
["LF Norrbott","597000-3884","23030"]
["LF Sak","502010-9681","22024"]
["LF Skaraborg","566000-6866","23020"]
["LF Skåne","543001-0685","23016"]
["LF Stockholm","502002-6265","23001"]
["LF Söderman","519000-6519","23003"]
["LF Uppsala","517600-9529","23002"]
["LF Värmland","573201-8329","23056"]
["LF Västerbo","594001-3161","23029"]
["LF Västerno","588000-3842","23027"]
["LF Älvsborg","562500-4337","23019"]
["LF ÖstgötaB","522001-1224","23004"]
["Linneryd","529501-9474","25056"]
["LKAB","516406-0187","22124"]
["LMG","516406-0831","22152"]
["LRF Skade","516401-8383","22052"]
["Lysviks","574000-3867","25059"]
["Läkarförsäkr","502020-1439","21900"]
["Läkarförsäkr","502019-6365","21013"]
["Läkemedel","516406-0401","22133"]
["LÖF","516401-8557","22094"]
["Maiden","516406-0468","21049"]
["Main pro","999999-9999","99003"]
["Markel","999999-9999","99002"]
["Medicov","516406-0435","22134"]
["Mellanljusna","587000-3349","25047"]
["Mittförsäkr.","589201-8937","25044"]
["Moderna","516406-0070","29122"]
["Moderna, filial","516403-8662","27105"]
["Moheda","529501-9482","25064"]
["Movestic","516401-6718","21040"]
["Mutual","516401-7971","27010"]
["NCC","516401-8151","22054"]
["Nederlan","556452-6142","27011"]
["Njord","516401-7880","22053"]
["Nolaskogen","589600-6573","25065"]
["Nordea Livförsäkring","516401-8508","21029"]
["Nordea LivSF","516401-8508","29029"]
["Nordea Utland","516401-8508","30029"]
["Nordeuropa","556768-7412","99010"]
["NordGuara","516406-0112","22123"]
["Nordisk Marin","556862-8183","22155"]
["Nordmark","574400-4812","23049"]
["Nordnet Pension","516406-0286","21046"]
["Nottebäc","529501-9490","25071"]
["Nätra","589600-6599","25073"]
["Ockelbo","585500-6408","25074"]
["Old Mutual Int.","502017-999","99012"]
["Orusts","558500-7627","23050"]
["Oskarsha","532800-6738","25076"]
["Oxie-Skytts","746001-0817","25077"]
["Peab","556511-5408","22154"]
["Pinnacle","556591-7902","21903"]
["PK ABB","878000-0124","70807"]
["PK APK","802004-8008","72585"]
["PK FFO","816400-4122","72607"]
["PK FPK","802005-6142","72540"]
["PK KP","802005-5540","72466"]
["PK KPK","802005-5631","72547"]
["PK Kyrkan","816400-4155","72610"]
["PK Kåpan","816400-4114","72606"]
["PK Optimalia","816400-4130","72608"]
["PK Posten","816400-4163","72611"]
["PK PP Pens.","802005-5573","72397"]
["PK Promethus","816400-4148","72609"]
["PK PSA","802005-5730","72399"]
["PK PSF","802005-5748","72400"]
["PK SHB","802005-5565","70201"]
["PK SPK","802005-5581","72516"]
["PK Volvo","816400-4056","72600"]
["Portea","516406-0302","22128"]
["Posten","516401-8649","22100"]
["PP Pension FF","802005-5573","07239"]
["PP Pension Fond","516406-0237","21117"]
["PPM","202100-5034","91700"]
["Prakt Tj","516406-0450","21118"]
["Preem","516406-0930","22156"]
["PRI","502014-6279","22026"]
["Principle","556848-7234","22151"]
["Prosec","516401-7914","22055"]
["Ramseleb","588800-4602","25078"]
["Reliance",null,"27103"]
["Royal Skandia","502017-3083","29062"]
["SABO","516401-8441","22085"]
["Saco Folksam","516401-6726","22114"]
["SalusAn Gr","516401-8342","21027"]
["SalusAnsvar ","516401-8573","21031"]
["Sampo Indust",null,"27102"]
["Sandvik","516401-6742","22115"]
["Sappisure","516406-0583","22140"]
["SCA","516401-8540","22093"]
["SE Captive","516401-8532","22092"]
["SEB Life","516401-6528","29033"]
["SEB Pension","516401-8243","21103"]
["SEB TL Gla","516401-6536","21034"]
["SHB L&P","502067-0732","29030"]
["SHB L&P","502067-0732","29030"]
["SHB Life","516403-0081","29105"]
["SHB Skade","516401-6767","22116"]
["Sirius Inter","516401-8136","22061"]
["SK IndSkador","502017-3083","22962"]
["Skandia Fondf.","502017-3083","22062"]
["Skandia Livf.","502019-6365","21003"]
["Skandia Livf.","516406-0948","22158"]
["Skanska","516401-8664","22102"]
["Skatelöv","529501-9508","25083"]
["SKF","516401-7658","22035"]
["Skåne ladugård","516401-7682","25099"]
["Snöstorp","549202-0002","25088"]
["Solid","516401-8482","22090"]
["Solidar","556740-1590","21053"]
["Sparbankernas","516406-0732","22149"]
["Sparia Group","516406-0963","22159"]
["SPP Liv","516401-8524","21030"]
["SPP Pension","516401-8599","21108"]
["St Erik","516401-7948","22067"]
["St Erik Liv","516406-0427","21048"]
["Stavnäs","572000-4927","25090"]
["Sthlm Re","502020-7063","22021"]
["Stockholms Fisk","502006-0264","25092"]
["Stockholmsreg","516406-0641","22145"]
["Stora Enso","516401-8045","22069"]
["Storebrand","516402-6998","21801"]
["Storebrand Liv","516401-7840","29031"]
["Storebrand sv filial","516403-6997","99009"]
["Strömsun","592000-4461","25093"]
["Stångenäs","554600-4994","23052"]
["Stöde","589201-8713","25094"]
["Suecia","516401-7872","22023"]
["Sv Handel Fond","516406-0310","21047"]
["Sv. Kommun","516406-0039","22119"]
["SveaSkog","516401-8466","22088"]
["Swedbank Försäkring","516401-8292","21101"]
["Swedish Club","557206-5265","22030"]
["Sveland Djur","545000-7165","22071"]
["SveLand Sak","516406-0229","22127"]
["Svenska Sjö","556221-0343","22901"]
["SvenskaBrand","516401-8318","22070"]
["Svevia","516406-0880","22153"]
["Sydkraft","516401-6551","22107"]
["Särestad","569000-7090","25097"]
["Södermanlands Fisk","516401-7823","25098"]
["TeliaSonera","516401-8490","22091"]
["TFF","802005-9286","22992"]
["TH (Folksam)","516401-7799","22975"]
["Tibro","566601-0599","25100"]
["Timrå","589201-8705","25041"]
["Tolg","529501-9524","25103"]
["Torups","549202-0010","25107"]
["Tre Kronor","516406-0369","22130"]
["Trygg-Hansa","516401-7799","22072"]
["Tunhems","563000-7028","25109"]
["Twincap","516406-0526","22136"]
["Twincap","516406-0526","22136"]
["Töreboda","566000-6858","25111"]
["Umeå","594001-3187","25112"]
["Unionen","516401-6791","22117"]
["Uppvidinge","529501-9573","25130"]
["Utl.bol. övr",null,"27100"]
["Vabis","516401-7856","22073"]
["Varbergs","516401-7567","25115"]
["Vardia","556809-0491","29201"]
["WASA Lita","516401-8698","22993"]
["WASA Sak AB","516401-8698","22105"]
["Vattenfall","516401-8391","22074"]
["VestaSkade","516403-8662","99007"]
["VFF Fond","516406-0518","21119"]
["Visenta","516401-8680","22104"]
["Visingsö","526002-0275","25116"]
["Volvo Car","556877-5778","22162"]
["VolvoGro","516401-8037","22077"]
["Väckelså","529501-9540","25119"]
["Värö","516401-7591","25121"]
["Västernä","575002-1023","25122"]
["XL Insurance","516402-5123","99011"]
["Zurich","502027-0160","27015"]
["Zürich IIL","516403-8266","29015"]
["Åkerbo","578500-7864","23057"]
["Ålems","532800-6720","25125"]
["ÅterförsSthlm","502020-7063","22080"]
["Änke- och Pupillkassan","502000-5202","21010"]
["Öckerö Båt","557212-2348","25133"]
["Österfärnebo Brand","585500-6903","25134"]
["Öst-Gränna","516401-8565","23060"]